BEGIN:VCALENDAR
VERSION:2.0
PRODID:-//CHGA - ECPv6.15.20//NONSGML v1.0//EN
CALSCALE:GREGORIAN
METHOD:PUBLISH
X-WR-CALNAME:CHGA
X-ORIGINAL-URL:https://www.chga.fm
X-WR-CALDESC:évènements pour CHGA
REFRESH-INTERVAL;VALUE=DURATION:PT1H
X-Robots-Tag:noindex
X-PUBLISHED-TTL:PT1H
BEGIN:VTIMEZONE
TZID:America/Toronto
BEGIN:DAYLIGHT
TZOFFSETFROM:-0500
TZOFFSETTO:-0400
TZNAME:EDT
DTSTART:20190310T070000
END:DAYLIGHT
BEGIN:STANDARD
TZOFFSETFROM:-0400
TZOFFSETTO:-0500
TZNAME:EST
DTSTART:20191103T060000
END:STANDARD
BEGIN:DAYLIGHT
TZOFFSETFROM:-0500
TZOFFSETTO:-0400
TZNAME:EDT
DTSTART:20200308T070000
END:DAYLIGHT
BEGIN:STANDARD
TZOFFSETFROM:-0400
TZOFFSETTO:-0500
TZNAME:EST
DTSTART:20201101T060000
END:STANDARD
BEGIN:DAYLIGHT
TZOFFSETFROM:-0500
TZOFFSETTO:-0400
TZNAME:EDT
DTSTART:20210314T070000
END:DAYLIGHT
BEGIN:STANDARD
TZOFFSETFROM:-0400
TZOFFSETTO:-0500
TZNAME:EST
DTSTART:20211107T060000
END:STANDARD
END:VTIMEZONE
BEGIN:VEVENT
DTSTART;TZID=America/Toronto:20201129T080000
DTEND;TZID=America/Toronto:20201129T170000
DTSTAMP:20260422T075120
CREATED:20201119T155637Z
LAST-MODIFIED:20201119T170207Z
UID:10015121-1606636800-1606669200@www.chga.fm
SUMMARY:Chevalier de Colomb de Grand-Remous - Levée de Fonds
DESCRIPTION:Dans le contexte de la pandémie Covid toutes les activités sociale sont annulées\, donc la principale levée de fonds annuelle avec le concours de panache en fait partie. \nDevant la demande grandissante des familles dans le besoin\, nous sollicitons votre grande générosité sous la forme d’un don pour pouvoir leur offrir un panier de noël. \nVous pouvez poster un chèque au nom des chevaliers de Colomb de Grand-Remous à l’adresse suivante; \nChevalier de Colomb de Grand-Remous \nà l’attention de Jean-Guy Séguin \n1534 Transcanadienne\, Grand-Remous\, J0W 1E0 \nou aller porter votre enveloppe à la Quincaillerie JB Lévesque. \nPour Information Jean-Guy Séguin au 819-438-2142
URL:https://www.chga.fm/evenement/chevalier-de-colomb-de-grand-remous-levee-de-fonds/2020-11-29/
LOCATION:QC\, Canada
END:VEVENT
END:VCALENDAR