BEGIN:VCALENDAR
VERSION:2.0
PRODID:-//CHGA - ECPv6.15.20//NONSGML v1.0//EN
CALSCALE:GREGORIAN
METHOD:PUBLISH
X-WR-CALNAME:CHGA
X-ORIGINAL-URL:https://www.chga.fm
X-WR-CALDESC:évènements pour CHGA
REFRESH-INTERVAL;VALUE=DURATION:PT1H
X-Robots-Tag:noindex
X-PUBLISHED-TTL:PT1H
BEGIN:VTIMEZONE
TZID:America/Toronto
BEGIN:DAYLIGHT
TZOFFSETFROM:-0500
TZOFFSETTO:-0400
TZNAME:EDT
DTSTART:20190310T070000
END:DAYLIGHT
BEGIN:STANDARD
TZOFFSETFROM:-0400
TZOFFSETTO:-0500
TZNAME:EST
DTSTART:20191103T060000
END:STANDARD
BEGIN:DAYLIGHT
TZOFFSETFROM:-0500
TZOFFSETTO:-0400
TZNAME:EDT
DTSTART:20200308T070000
END:DAYLIGHT
BEGIN:STANDARD
TZOFFSETFROM:-0400
TZOFFSETTO:-0500
TZNAME:EST
DTSTART:20201101T060000
END:STANDARD
BEGIN:DAYLIGHT
TZOFFSETFROM:-0500
TZOFFSETTO:-0400
TZNAME:EDT
DTSTART:20210314T070000
END:DAYLIGHT
BEGIN:STANDARD
TZOFFSETFROM:-0400
TZOFFSETTO:-0500
TZNAME:EST
DTSTART:20211107T060000
END:STANDARD
END:VTIMEZONE
BEGIN:VEVENT
DTSTART;TZID=America/Toronto:20201127T160000
DTEND;TZID=America/Toronto:20201127T190000
DTSTAMP:20260422T121746
CREATED:20201110T151705Z
LAST-MODIFIED:20201110T151733Z
UID:372294-1606492800-1606503600@www.chga.fm
SUMMARY:CALACS Vallée-de-la-Gatineau/ Soirée Conférence
DESCRIPTION:Rejoignez l’équipe du CALACS Vallée-de-la-Gatineau afin de souligner les 12 jours d’action contre la violence faite aux femmes\, à un 4 @ 7 \nle vendredi 27 novembre 2020 au Chateau Logue\, Maniwaki (12 rue Comeau) . \nDes bouchées vous seront servis. \nInscription obligatoire – 10 places disponibles – 819-441-2111 \nAssistez aux conférences de Mesdames Madeleine Lefebvre & Anne Potvin\, auteures. \nTémoignage de Madame Jocelyne Dupuis – documentaire « De l’ombre à la lumière » \nRencontrez Diane Blais ; artiste de la région & féministe engagée.
URL:https://www.chga.fm/evenement/calacs-vallee-de-la-gatineau-soiree-conference/
LOCATION:Château Logue Maniwaki\, 12 Rue Comeau\, Maniwaki\, QC\, J9E 2R8\, Canada
END:VEVENT
END:VCALENDAR