BEGIN:VCALENDAR
VERSION:2.0
PRODID:-//CHGA - ECPv6.15.20//NONSGML v1.0//EN
CALSCALE:GREGORIAN
METHOD:PUBLISH
X-WR-CALNAME:CHGA
X-ORIGINAL-URL:https://www.chga.fm
X-WR-CALDESC:évènements pour CHGA
REFRESH-INTERVAL;VALUE=DURATION:PT1H
X-Robots-Tag:noindex
X-PUBLISHED-TTL:PT1H
BEGIN:VTIMEZONE
TZID:America/Toronto
BEGIN:DAYLIGHT
TZOFFSETFROM:-0500
TZOFFSETTO:-0400
TZNAME:EDT
DTSTART:20210314T070000
END:DAYLIGHT
BEGIN:STANDARD
TZOFFSETFROM:-0400
TZOFFSETTO:-0500
TZNAME:EST
DTSTART:20211107T060000
END:STANDARD
BEGIN:DAYLIGHT
TZOFFSETFROM:-0500
TZOFFSETTO:-0400
TZNAME:EDT
DTSTART:20220313T070000
END:DAYLIGHT
BEGIN:STANDARD
TZOFFSETFROM:-0400
TZOFFSETTO:-0500
TZNAME:EST
DTSTART:20221106T060000
END:STANDARD
BEGIN:DAYLIGHT
TZOFFSETFROM:-0500
TZOFFSETTO:-0400
TZNAME:EDT
DTSTART:20230312T070000
END:DAYLIGHT
BEGIN:STANDARD
TZOFFSETFROM:-0400
TZOFFSETTO:-0500
TZNAME:EST
DTSTART:20231105T060000
END:STANDARD
END:VTIMEZONE
BEGIN:VEVENT
DTSTART;TZID=America/Toronto:20220508T103000
DTEND;TZID=America/Toronto:20220508T140000
DTSTAMP:20260421T051920
CREATED:20220413T133826Z
LAST-MODIFIED:20220413T134039Z
UID:400003-1652005800-1652018400@www.chga.fm
SUMMARY:Brunch pour la fête des mères
DESCRIPTION:La Communauté Saint-Boniface de Bois-Franc organise un brunch pour la fête des mères le dimanche 8 mai 2022\, à la Salle Donat Hubert. Au menu vous y trouverez crêpes\, œufs\, saucisses\, fèves au lard\, thé et café tout ça pour la modique somme de 10\,00$ par personne. Le brunch débutera à 10h30 et se terminera à 14h00. La Communauté organisera également une messe spéciale qui débutera à 9h15. Pour cette belle occasion il y aura piano\, chorale et 2 invités spécial de Montréal.  \nLes billets sont en vente jusqu’au 1er mai 2022. \nPour l’achat des billets\, veuillez communiquer avec Rollande au 819 449-4419 ou avec Yves au 819 449-3056. \nBienvenue à tous et à toutes.
URL:https://www.chga.fm/evenement/brunch-pour-la-fete-des-meres/
LOCATION:Église St-Boniface de Bois-Franc\, 463\, route 105\, Bois-Franc\, QC\, J9E 3A9\, Canada
END:VEVENT
END:VCALENDAR