BEGIN:VCALENDAR
VERSION:2.0
PRODID:-//CHGA - ECPv6.15.20//NONSGML v1.0//EN
CALSCALE:GREGORIAN
METHOD:PUBLISH
X-WR-CALNAME:CHGA
X-ORIGINAL-URL:https://www.chga.fm
X-WR-CALDESC:évènements pour CHGA
REFRESH-INTERVAL;VALUE=DURATION:PT1H
X-Robots-Tag:noindex
X-PUBLISHED-TTL:PT1H
BEGIN:VTIMEZONE
TZID:America/Toronto
BEGIN:DAYLIGHT
TZOFFSETFROM:-0500
TZOFFSETTO:-0400
TZNAME:EDT
DTSTART:20210314T070000
END:DAYLIGHT
BEGIN:STANDARD
TZOFFSETFROM:-0400
TZOFFSETTO:-0500
TZNAME:EST
DTSTART:20211107T060000
END:STANDARD
BEGIN:DAYLIGHT
TZOFFSETFROM:-0500
TZOFFSETTO:-0400
TZNAME:EDT
DTSTART:20220313T070000
END:DAYLIGHT
BEGIN:STANDARD
TZOFFSETFROM:-0400
TZOFFSETTO:-0500
TZNAME:EST
DTSTART:20221106T060000
END:STANDARD
BEGIN:DAYLIGHT
TZOFFSETFROM:-0500
TZOFFSETTO:-0400
TZNAME:EDT
DTSTART:20230312T070000
END:DAYLIGHT
BEGIN:STANDARD
TZOFFSETFROM:-0400
TZOFFSETTO:-0500
TZNAME:EST
DTSTART:20231105T060000
END:STANDARD
END:VTIMEZONE
BEGIN:VEVENT
DTSTART;TZID=America/Toronto:20221009T090000
DTEND;TZID=America/Toronto:20221009T133000
DTSTAMP:20260420T204852
CREATED:20220926T172857Z
LAST-MODIFIED:20220926T173009Z
UID:410167-1665306000-1665322200@www.chga.fm
SUMMARY:Brunch avec la Communauté de Saint-Boniface
DESCRIPTION: La communauté Saint-Boniface de Bois-Franc soulignera les défunts de l’année et on accueil un nouveau-né Zavier à l’église Saint-Boniface à 9h15. La Communauté organise un brunch le dimanche 9 octobre prochain à la salle Donat Hubert entre 10h15 et 13h30. Le brunch comprend des fèves au lard\, oeuf brouillé\, saucisse au lard\, pomme de terre rôti\, fruits\, fromage\, thé et café pour la modique somme de 15$ par personne. Pour réserver votre billet\, téléphonez Yves au 819 449-3056.
URL:https://www.chga.fm/evenement/brunch-avec-la-communaute-de-saint-boniface/
LOCATION:QC\, Canada
END:VEVENT
END:VCALENDAR