BEGIN:VCALENDAR
VERSION:2.0
PRODID:-//CHGA - ECPv6.15.20//NONSGML v1.0//EN
CALSCALE:GREGORIAN
METHOD:PUBLISH
X-WR-CALNAME:CHGA
X-ORIGINAL-URL:https://www.chga.fm
X-WR-CALDESC:évènements pour CHGA
REFRESH-INTERVAL;VALUE=DURATION:PT1H
X-Robots-Tag:noindex
X-PUBLISHED-TTL:PT1H
BEGIN:VTIMEZONE
TZID:America/Toronto
BEGIN:DAYLIGHT
TZOFFSETFROM:-0500
TZOFFSETTO:-0400
TZNAME:EDT
DTSTART:20210314T070000
END:DAYLIGHT
BEGIN:STANDARD
TZOFFSETFROM:-0400
TZOFFSETTO:-0500
TZNAME:EST
DTSTART:20211107T060000
END:STANDARD
BEGIN:DAYLIGHT
TZOFFSETFROM:-0500
TZOFFSETTO:-0400
TZNAME:EDT
DTSTART:20220313T070000
END:DAYLIGHT
BEGIN:STANDARD
TZOFFSETFROM:-0400
TZOFFSETTO:-0500
TZNAME:EST
DTSTART:20221106T060000
END:STANDARD
BEGIN:DAYLIGHT
TZOFFSETFROM:-0500
TZOFFSETTO:-0400
TZNAME:EDT
DTSTART:20230312T070000
END:DAYLIGHT
BEGIN:STANDARD
TZOFFSETFROM:-0400
TZOFFSETTO:-0500
TZNAME:EST
DTSTART:20231105T060000
END:STANDARD
END:VTIMEZONE
BEGIN:VEVENT
DTSTART;TZID=America/Toronto:20220723T133000
DTEND;TZID=America/Toronto:20220723T153000
DTSTAMP:20260421T014714
CREATED:20220705T185045Z
LAST-MODIFIED:20220705T185328Z
UID:405924-1658583000-1658590200@www.chga.fm
SUMMARY:Bingo Tupperware
DESCRIPTION:Bingo Tupperware le23 juillet prochain au parc municipal de Gracefield.  \nCoût pour tous les jeux: 20.$ \nLes enfants sont les bienvenue à condition qu’ils soient en mesure de suivre 🙂 \nPour informations: France Galipeau au 819-334-0954 
URL:https://www.chga.fm/evenement/bingo-tupperware/
LOCATION:Parc municipal de Gracefield\, QC\, Canada
END:VEVENT
END:VCALENDAR