BEGIN:VCALENDAR
VERSION:2.0
PRODID:-//CHGA - ECPv6.15.20//NONSGML v1.0//EN
CALSCALE:GREGORIAN
METHOD:PUBLISH
X-WR-CALNAME:CHGA
X-ORIGINAL-URL:https://www.chga.fm
X-WR-CALDESC:évènements pour CHGA
REFRESH-INTERVAL;VALUE=DURATION:PT1H
X-Robots-Tag:noindex
X-PUBLISHED-TTL:PT1H
BEGIN:VTIMEZONE
TZID:America/Toronto
BEGIN:DAYLIGHT
TZOFFSETFROM:-0500
TZOFFSETTO:-0400
TZNAME:EDT
DTSTART:20210314T070000
END:DAYLIGHT
BEGIN:STANDARD
TZOFFSETFROM:-0400
TZOFFSETTO:-0500
TZNAME:EST
DTSTART:20211107T060000
END:STANDARD
BEGIN:DAYLIGHT
TZOFFSETFROM:-0500
TZOFFSETTO:-0400
TZNAME:EDT
DTSTART:20220313T070000
END:DAYLIGHT
BEGIN:STANDARD
TZOFFSETFROM:-0400
TZOFFSETTO:-0500
TZNAME:EST
DTSTART:20221106T060000
END:STANDARD
BEGIN:DAYLIGHT
TZOFFSETFROM:-0500
TZOFFSETTO:-0400
TZNAME:EDT
DTSTART:20230312T070000
END:DAYLIGHT
BEGIN:STANDARD
TZOFFSETFROM:-0400
TZOFFSETTO:-0500
TZNAME:EST
DTSTART:20231105T060000
END:STANDARD
END:VTIMEZONE
BEGIN:VEVENT
DTSTART;TZID=America/Toronto:20220423T110000
DTEND;TZID=America/Toronto:20220423T110000
DTSTAMP:20260421T064853
CREATED:20220414T153354Z
LAST-MODIFIED:20220414T153354Z
UID:400087-1650711600-1650711600@www.chga.fm
SUMMARY:Bingo spécial
DESCRIPTION:Samedi le 23 avril 2022\, nous offrirons un bingo spécial qui débutera à 13h00\, mais les portes ouvrirons dès 11h00. L’évènement se déroulera au 46 St-Joseph à Gracefield. Le prix d’entrée est de 40\,00$. 2 680$ à gagner\, dont un gros lot de 1 200$. Il y aura une cantine sur place\, svp ne pas apporter de nourriture. Nous avons une ne trentaine de billets de disponible. \nPour plus d’informations\, téléphonez Gilles Lafond au 819 463-2098 ou Claudette Thériault au 819 463-2072.
URL:https://www.chga.fm/evenement/bingo-special/
LOCATION:46\, Rue St-Joseph\, Gracefield\, 46\, Rue St-Joseph\, Gracefield\, QC\, J0X 1W0\, Canada
END:VEVENT
END:VCALENDAR