BEGIN:VCALENDAR
VERSION:2.0
PRODID:-//CHGA - ECPv6.15.20//NONSGML v1.0//EN
CALSCALE:GREGORIAN
METHOD:PUBLISH
X-WR-CALNAME:CHGA
X-ORIGINAL-URL:https://www.chga.fm
X-WR-CALDESC:évènements pour CHGA
REFRESH-INTERVAL;VALUE=DURATION:PT1H
X-Robots-Tag:noindex
X-PUBLISHED-TTL:PT1H
BEGIN:VTIMEZONE
TZID:America/Toronto
BEGIN:DAYLIGHT
TZOFFSETFROM:-0500
TZOFFSETTO:-0400
TZNAME:EDT
DTSTART:20210314T070000
END:DAYLIGHT
BEGIN:STANDARD
TZOFFSETFROM:-0400
TZOFFSETTO:-0500
TZNAME:EST
DTSTART:20211107T060000
END:STANDARD
BEGIN:DAYLIGHT
TZOFFSETFROM:-0500
TZOFFSETTO:-0400
TZNAME:EDT
DTSTART:20220313T070000
END:DAYLIGHT
BEGIN:STANDARD
TZOFFSETFROM:-0400
TZOFFSETTO:-0500
TZNAME:EST
DTSTART:20221106T060000
END:STANDARD
BEGIN:DAYLIGHT
TZOFFSETFROM:-0500
TZOFFSETTO:-0400
TZNAME:EDT
DTSTART:20230312T070000
END:DAYLIGHT
BEGIN:STANDARD
TZOFFSETFROM:-0400
TZOFFSETTO:-0500
TZNAME:EST
DTSTART:20231105T060000
END:STANDARD
END:VTIMEZONE
BEGIN:VEVENT
DTSTART;TZID=America/Toronto:20221026T183000
DTEND;TZID=America/Toronto:20221026T183000
DTSTAMP:20260420T222024
CREATED:20221006T171328Z
LAST-MODIFIED:20221006T171328Z
UID:410788-1666809000-1666809000@www.chga.fm
SUMMARY:Bingo spécial pour l'église de Gracefield
DESCRIPTION:Sainte-Marie de l’incarnation vous invite à leur bingo qui aura lieu le mercredi 26 octobre prochain à 18h30 au 46\, rue St-Joseph à Gracefield. Le prix d’entrée est de 40$ pour un gros lot de 1 200$. Le profit amassé sera pour l’église de Gracefield. \nPour plus d’informations\, communiquez avec Gilles au 819 463-2098 ou Claire au 819 334-4018.
URL:https://www.chga.fm/evenement/bingo-special-pour-leglise-de-gracefield/
LOCATION:Église de Gracefield\, 14\, rue Principale\, Gracefield\, QC\, J0X 1W0\, Canada
END:VEVENT
END:VCALENDAR