BEGIN:VCALENDAR
VERSION:2.0
PRODID:-//CHGA - ECPv6.15.20//NONSGML v1.0//EN
CALSCALE:GREGORIAN
METHOD:PUBLISH
X-WR-CALNAME:CHGA
X-ORIGINAL-URL:https://www.chga.fm
X-WR-CALDESC:évènements pour CHGA
REFRESH-INTERVAL;VALUE=DURATION:PT1H
X-Robots-Tag:noindex
X-PUBLISHED-TTL:PT1H
BEGIN:VTIMEZONE
TZID:America/Toronto
BEGIN:DAYLIGHT
TZOFFSETFROM:-0500
TZOFFSETTO:-0400
TZNAME:EDT
DTSTART:20220313T070000
END:DAYLIGHT
BEGIN:STANDARD
TZOFFSETFROM:-0400
TZOFFSETTO:-0500
TZNAME:EST
DTSTART:20221106T060000
END:STANDARD
BEGIN:DAYLIGHT
TZOFFSETFROM:-0500
TZOFFSETTO:-0400
TZNAME:EDT
DTSTART:20230312T070000
END:DAYLIGHT
BEGIN:STANDARD
TZOFFSETFROM:-0400
TZOFFSETTO:-0500
TZNAME:EST
DTSTART:20231105T060000
END:STANDARD
BEGIN:DAYLIGHT
TZOFFSETFROM:-0500
TZOFFSETTO:-0400
TZNAME:EDT
DTSTART:20240310T070000
END:DAYLIGHT
BEGIN:STANDARD
TZOFFSETFROM:-0400
TZOFFSETTO:-0500
TZNAME:EST
DTSTART:20241103T060000
END:STANDARD
END:VTIMEZONE
BEGIN:VEVENT
DTSTART;TZID=America/Toronto:20230805T130000
DTEND;TZID=America/Toronto:20230805T150000
DTSTAMP:20260420T084454
CREATED:20230731T133509Z
LAST-MODIFIED:20230731T133509Z
UID:427820-1691240400-1691247600@www.chga.fm
SUMMARY:Bingo - Les Filles d'Isabelle Notre-Dame-du-Laus
DESCRIPTION:Les Filles d’Isabelle Notre-Dame-du-Laus organise un bingo dans le cadre du Festival du Pêcheur de Notre-Dame-du-Laus le samedi 5 août 2023 dès 13h à la salle des loisirs. Le gros lot sera d’un montant de 1 000$.
URL:https://www.chga.fm/evenement/bingo-les-filles-disabelle-notre-dame-du-laus/
END:VEVENT
END:VCALENDAR