BEGIN:VCALENDAR
VERSION:2.0
PRODID:-//CHGA - ECPv6.15.20//NONSGML v1.0//EN
CALSCALE:GREGORIAN
METHOD:PUBLISH
X-WR-CALNAME:CHGA
X-ORIGINAL-URL:https://www.chga.fm
X-WR-CALDESC:évènements pour CHGA
REFRESH-INTERVAL;VALUE=DURATION:PT1H
X-Robots-Tag:noindex
X-PUBLISHED-TTL:PT1H
BEGIN:VTIMEZONE
TZID:America/Toronto
BEGIN:DAYLIGHT
TZOFFSETFROM:-0500
TZOFFSETTO:-0400
TZNAME:EDT
DTSTART:20220313T070000
END:DAYLIGHT
BEGIN:STANDARD
TZOFFSETFROM:-0400
TZOFFSETTO:-0500
TZNAME:EST
DTSTART:20221106T060000
END:STANDARD
BEGIN:DAYLIGHT
TZOFFSETFROM:-0500
TZOFFSETTO:-0400
TZNAME:EDT
DTSTART:20230312T070000
END:DAYLIGHT
BEGIN:STANDARD
TZOFFSETFROM:-0400
TZOFFSETTO:-0500
TZNAME:EST
DTSTART:20231105T060000
END:STANDARD
BEGIN:DAYLIGHT
TZOFFSETFROM:-0500
TZOFFSETTO:-0400
TZNAME:EDT
DTSTART:20240310T070000
END:DAYLIGHT
BEGIN:STANDARD
TZOFFSETFROM:-0400
TZOFFSETTO:-0500
TZNAME:EST
DTSTART:20241103T060000
END:STANDARD
END:VTIMEZONE
BEGIN:VEVENT
DTSTART;TZID=America/Toronto:20230301T160000
DTEND;TZID=America/Toronto:20230301T183000
DTSTAMP:20260420T144057
CREATED:20230203T200526Z
LAST-MODIFIED:20230203T200526Z
UID:417381-1677686400-1677695400@www.chga.fm
SUMMARY:Bingo - La Paroisse de l'incarnation Gracefield
DESCRIPTION:La Paroisse de l’incarnation Gracefield vous invite à leur bingo qui aura lieu le mercredi 1er mars 2023 à 18h30 au 46 St-Joseph à Gracefield. L’achat des cartes de bingo sont au montant de 40$ chacune. En prix il y a 2 680$ dont un gros lot de 1 200$. Les portes seront ouvertes dès 16h. \n*Il est interdit d’apporter de la nourriture* \nPour plus d’informations\, communiquez avec Gilles Lafond au 819 463-2098 ou avec Claudette Thériault au 819 463-2072.
URL:https://www.chga.fm/evenement/bingo-la-paroisse-de-lincarnation-gracefield/
LOCATION:QC\, Canada
END:VEVENT
END:VCALENDAR