BEGIN:VCALENDAR
VERSION:2.0
PRODID:-//CHGA - ECPv6.15.20//NONSGML v1.0//EN
CALSCALE:GREGORIAN
METHOD:PUBLISH
X-WR-CALNAME:CHGA
X-ORIGINAL-URL:https://www.chga.fm
X-WR-CALDESC:évènements pour CHGA
REFRESH-INTERVAL;VALUE=DURATION:PT1H
X-Robots-Tag:noindex
X-PUBLISHED-TTL:PT1H
BEGIN:VTIMEZONE
TZID:America/Toronto
BEGIN:DAYLIGHT
TZOFFSETFROM:-0500
TZOFFSETTO:-0400
TZNAME:EDT
DTSTART:20220313T070000
END:DAYLIGHT
BEGIN:STANDARD
TZOFFSETFROM:-0400
TZOFFSETTO:-0500
TZNAME:EST
DTSTART:20221106T060000
END:STANDARD
BEGIN:DAYLIGHT
TZOFFSETFROM:-0500
TZOFFSETTO:-0400
TZNAME:EDT
DTSTART:20230312T070000
END:DAYLIGHT
BEGIN:STANDARD
TZOFFSETFROM:-0400
TZOFFSETTO:-0500
TZNAME:EST
DTSTART:20231105T060000
END:STANDARD
BEGIN:DAYLIGHT
TZOFFSETFROM:-0500
TZOFFSETTO:-0400
TZNAME:EDT
DTSTART:20240310T070000
END:DAYLIGHT
BEGIN:STANDARD
TZOFFSETFROM:-0400
TZOFFSETTO:-0500
TZNAME:EST
DTSTART:20241103T060000
END:STANDARD
END:VTIMEZONE
BEGIN:VEVENT
DTSTART;TZID=America/Toronto:20230903T163000
DTEND;TZID=America/Toronto:20230903T173000
DTSTAMP:20260420T055046
CREATED:20230529T172043Z
LAST-MODIFIED:20230905T135921Z
UID:424492-1693758600-1693762200@www.chga.fm
SUMMARY:Bingo CHGA spécial
DESCRIPTION:Le bingo de ce dimanche en est un spécial avec un total de 5000$ à gagner. Il se jouera sur des cartes rouges à 10$\, disponibles chez les différents dépositaires. \nLe bingo de CHGA\, tous les dimanches à 16 h 30! \nLes gagnants \nLettre X\n\nSuzanne Pétrin de Gracefield – 500$ – Carte achetée au Garage Boisvenue de Gracefield\n\nCroix et quatre coins\n\nLiette Farrant de Val-des-Bois – 500$ – Carte achetée au Dépanneur du Village de Val-des-Bois\n\nLe tour de la carte\n\nPierrette Boucher de Gatineau – 166\,68$ – Carte achetée au Marché Blue Sea de Blue Sea\nCaroline Lepage de Gatineau – 166\,66$ – Carte achetée au Marché du Progrès de Gatineau\nSteve Lépine de Grand-Remous – 166\,66$\n\nCarte pleine\n\nJosée Roy de Petit Lac Long – 3 000$ – Carte achetée au Garage Boisvenue de Gracefield\n\nConsolation\n\nMicheline Coursol de Ferme-Neuve – 250$ – Carte achetée au Dépanneur 4 saisons de Ferme-Neuve\nPaul Rivière de Gatineau – 250$ – Carte achetée à la Station Sonic de Notre-Dame-du-Laus
URL:https://www.chga.fm/evenement/bingo-chga-special-95/
LOCATION:QC\, Canada
CATEGORIES:Bingo CHGA
END:VEVENT
END:VCALENDAR