BEGIN:VCALENDAR
VERSION:2.0
PRODID:-//CHGA - ECPv6.15.20//NONSGML v1.0//EN
CALSCALE:GREGORIAN
METHOD:PUBLISH
X-WR-CALNAME:CHGA
X-ORIGINAL-URL:https://www.chga.fm
X-WR-CALDESC:évènements pour CHGA
REFRESH-INTERVAL;VALUE=DURATION:PT1H
X-Robots-Tag:noindex
X-PUBLISHED-TTL:PT1H
BEGIN:VTIMEZONE
TZID:America/Toronto
BEGIN:DAYLIGHT
TZOFFSETFROM:-0500
TZOFFSETTO:-0400
TZNAME:EDT
DTSTART:20220313T070000
END:DAYLIGHT
BEGIN:STANDARD
TZOFFSETFROM:-0400
TZOFFSETTO:-0500
TZNAME:EST
DTSTART:20221106T060000
END:STANDARD
BEGIN:DAYLIGHT
TZOFFSETFROM:-0500
TZOFFSETTO:-0400
TZNAME:EDT
DTSTART:20230312T070000
END:DAYLIGHT
BEGIN:STANDARD
TZOFFSETFROM:-0400
TZOFFSETTO:-0500
TZNAME:EST
DTSTART:20231105T060000
END:STANDARD
BEGIN:DAYLIGHT
TZOFFSETFROM:-0500
TZOFFSETTO:-0400
TZNAME:EDT
DTSTART:20240310T070000
END:DAYLIGHT
BEGIN:STANDARD
TZOFFSETFROM:-0400
TZOFFSETTO:-0500
TZNAME:EST
DTSTART:20241103T060000
END:STANDARD
END:VTIMEZONE
BEGIN:VEVENT
DTSTART;TZID=America/Toronto:20230820T163000
DTEND;TZID=America/Toronto:20230820T173000
DTSTAMP:20260420T085229
CREATED:20230529T171950Z
LAST-MODIFIED:20230828T142932Z
UID:424491-1692549000-1692552600@www.chga.fm
SUMMARY:Bingo CHGA spécial
DESCRIPTION:Le bingo de ce dimanche en est un spécial avec un total de 5000$ à gagner. Il se jouera sur des cartes rouges à 10$\, disponibles chez les différents dépositaires. \nLe bingo de CHGA\, tous les dimanches à 16 h 30! \nLes gagnants \nLettre X\n\nDaniel Audette de Maniwaki – 500$ – Carte achetée à la Radio CHGA de Maniwaki\n\nCroix et quatre coins\n\nAnnie Gauthier de Gatineau – 500$ – Carte achetée au Mini-Marché le Gros-Do de Gatineau\n\nLe tour de la carte\n\nGilles Pelletier de Gatineau – 166\,68$ – Carte achetée au Marché du Progrès de Gatineau\nHélène Guilbault de Déléage – 166\,66$ – Carte achetée à l’Épicerie Aumond de Aumond\nKerryLynn Zacharias de Otter Lake – 166\,66$ – Carte achetée au Dépanneur le Coin Picanoc de Otter Lake\n\nCarte pleine\n\nGilbert Filion de Gracefield – 750$ – Carte achetée à la Station l’Aventure de Gracefield\nSylvie Chatillon de Ferme-Neuve – 750$ – Carte achetée au Dépanneur 4 Saisons de Ferme-Neuve\nChristine Séguin de Gatineau – 750$ – Carte achetée au Marché du Progrès de Gatineau\nMadeleine Poucachiche de Rapid Lake – 750$ – Carte achetée au Dépanneur Réjean Grondin de Maniwaki\n\nConsolation\n\nRachelle Larocque de Chelsea – 62\,50$ – Carte achetée à l’Épicerie Masham de Masham\nAnick Larocque de East Aldfield – 62\,50$ – Carte achetée à la P’tit Magasin Général de East Aldfield\nNicole Larocque de Gatineau – 62\,50$ – Carte achetée au Marché du Progrès de Gatineau\nJanique Clément de Maniwaki – 62\,50$ – Carte achetée à l’Épicerie GHT de Maniwaki\nPierre Boisclair de Lac-des-Écorces – 62\,50$ – Carte achetée au Garage Martin Léonard de Lac-du-Cerf\nPaulette Saumur-Gorman de Déléage – 62\,50$ – Carte achetée à l’Épicerie GHT de Maniwaki\nGinette Piché de Gracefield – 62\,50$ – Carte achetée au Garage Boisvenue de Gracefield\nRoxanne Bélisle de Masham – 62\,50$ – Carte achetée à l’Épicerie Masham de Masham
URL:https://www.chga.fm/evenement/bingo-chga-special-94/
LOCATION:QC\, Canada
CATEGORIES:Bingo CHGA
END:VEVENT
END:VCALENDAR