BEGIN:VCALENDAR
VERSION:2.0
PRODID:-//CHGA - ECPv6.15.20//NONSGML v1.0//EN
CALSCALE:GREGORIAN
METHOD:PUBLISH
X-WR-CALNAME:CHGA
X-ORIGINAL-URL:https://www.chga.fm
X-WR-CALDESC:évènements pour CHGA
REFRESH-INTERVAL;VALUE=DURATION:PT1H
X-Robots-Tag:noindex
X-PUBLISHED-TTL:PT1H
BEGIN:VTIMEZONE
TZID:America/Toronto
BEGIN:DAYLIGHT
TZOFFSETFROM:-0500
TZOFFSETTO:-0400
TZNAME:EDT
DTSTART:20210314T070000
END:DAYLIGHT
BEGIN:STANDARD
TZOFFSETFROM:-0400
TZOFFSETTO:-0500
TZNAME:EST
DTSTART:20211107T060000
END:STANDARD
BEGIN:DAYLIGHT
TZOFFSETFROM:-0500
TZOFFSETTO:-0400
TZNAME:EDT
DTSTART:20220313T070000
END:DAYLIGHT
BEGIN:STANDARD
TZOFFSETFROM:-0400
TZOFFSETTO:-0500
TZNAME:EST
DTSTART:20221106T060000
END:STANDARD
BEGIN:DAYLIGHT
TZOFFSETFROM:-0500
TZOFFSETTO:-0400
TZNAME:EDT
DTSTART:20230312T070000
END:DAYLIGHT
BEGIN:STANDARD
TZOFFSETFROM:-0400
TZOFFSETTO:-0500
TZNAME:EST
DTSTART:20231105T060000
END:STANDARD
END:VTIMEZONE
BEGIN:VEVENT
DTSTART;TZID=America/Toronto:20221002T163000
DTEND;TZID=America/Toronto:20221002T173000
DTSTAMP:20260420T221746
CREATED:20211214T160527Z
LAST-MODIFIED:20221003T135426Z
UID:393310-1664728200-1664731800@www.chga.fm
SUMMARY:Bingo CHGA spécial
DESCRIPTION:Le bingo de ce dimanche en est un spécial avec un total de 5000$ à gagner. Il se jouera sur des cartes rouges à 10$\, disponibles chez les différents dépositaires. \nLe bingo de CHGA\, tous les dimanches à 16 h 30! \nLes gagnants \nTour du gratuit\n\nAnne Robert de Gatineau – 500$ – Carte achetée au Dépanneur Relais de Chutes de Grand-Remous\n\nLignes du haut et du bas\n\nSerge Gagnon de Messines – 250$ – Carte achetée au Dépanneur Gorley de Messines\nPierrette Fortin de Maniwaki – 250$ – Carte achetée à l’Épicerie GHT de Maniwaki\n\nLettes BNO\n\nPierre Régimbald de Buckingham – 500$ – Carte achetée au Dépanneur D. Wolfe de Gatineau\n\nCarte pleine\n\nSuzanne Kyler de Cayamant – 3 000$ – Carte achetée à la Radio CHGA de Maniwaki\n\n2e carte de pleine\n\nMicheline Mitchel de Kitigan Zibi – 500$ – Carte achetée à la Station l’Aventure de Gracefield
URL:https://www.chga.fm/evenement/bingo-chga-special-69/
LOCATION:QC\, Canada
CATEGORIES:Bingo CHGA
END:VEVENT
END:VCALENDAR