BEGIN:VCALENDAR
VERSION:2.0
PRODID:-//CHGA - ECPv6.15.20//NONSGML v1.0//EN
CALSCALE:GREGORIAN
METHOD:PUBLISH
X-WR-CALNAME:CHGA
X-ORIGINAL-URL:https://www.chga.fm
X-WR-CALDESC:évènements pour CHGA
REFRESH-INTERVAL;VALUE=DURATION:PT1H
X-Robots-Tag:noindex
X-PUBLISHED-TTL:PT1H
BEGIN:VTIMEZONE
TZID:America/Toronto
BEGIN:DAYLIGHT
TZOFFSETFROM:-0500
TZOFFSETTO:-0400
TZNAME:EDT
DTSTART:20220313T070000
END:DAYLIGHT
BEGIN:STANDARD
TZOFFSETFROM:-0400
TZOFFSETTO:-0500
TZNAME:EST
DTSTART:20221106T060000
END:STANDARD
BEGIN:DAYLIGHT
TZOFFSETFROM:-0500
TZOFFSETTO:-0400
TZNAME:EDT
DTSTART:20230312T070000
END:DAYLIGHT
BEGIN:STANDARD
TZOFFSETFROM:-0400
TZOFFSETTO:-0500
TZNAME:EST
DTSTART:20231105T060000
END:STANDARD
BEGIN:DAYLIGHT
TZOFFSETFROM:-0500
TZOFFSETTO:-0400
TZNAME:EDT
DTSTART:20240310T070000
END:DAYLIGHT
BEGIN:STANDARD
TZOFFSETFROM:-0400
TZOFFSETTO:-0500
TZNAME:EST
DTSTART:20241103T060000
END:STANDARD
END:VTIMEZONE
BEGIN:VEVENT
DTSTART;TZID=America/Toronto:20230702T163000
DTEND;TZID=America/Toronto:20230702T173000
DTSTAMP:20260420T085432
CREATED:20230529T171541Z
LAST-MODIFIED:20230706T140126Z
UID:424488-1688315400-1688319000@www.chga.fm
SUMMARY:Bingo CHGA spécial
DESCRIPTION:Le bingo de ce dimanche en est un spécial avec un total de 5000$ à gagner. Il se jouera sur des cartes rouges à 10$\, disponibles chez les différents dépositaires. \nLe bingo de CHGA\, tous les dimanches à 16 h 30! \nLes gagnants \nLettre X\n\nMichel Smith de Notre-Dame-du-Laus – 500$ – Carte achetée à la Station Sonic de Notre-Dame-du-Laus\n\nCroix et quatre coins\n\nDenise Côté de Maniwaki – 500$ – Carte achetée à l’Épicerie GHT de Maniwaki\n\nLe tour de la carte\n\nCarl Poirier de Lac-des-Îles – 500$ – Carte achetée au Dépanneur Therrien de Mont-Laurier\n\nCarte pleine\n\nJohanne Carrière de Notre-Dame-de-la-Salette – 1 500$ – Carte achetée au Dépanneur Chez Dan de Notre-Dame-de-la-Salette\nNancy Payette de Egan-Sud – 1 500$ – Carte achetée à la Radio CHGA de Maniwaki\n\nConsolation\n\nMartine Bondu de Notre-Dame-de-Pontmain – 71\,42$ – Carte achetée au Dépanneur Jules Bonisoir de Mont-Laurier\nCarl Poirier de Lac-des-Îles – 71\,42$ – Carte achetée au Dépanneur Therrien de Mont-Laurier\nDominique Rochon de Lac-du-Cerf – 71\,42$ – Carte achetée au Dépanneur Jules Bonisoir de Mont-Laurier\nCarmen Gravelle de Ste-Cécile-de-Masham – 71\,42$ – Carte achetée à l’Épicerie Masham de Ste-Cécile-de-Masham\nJohane Lamoureux de Gatineau – 71\,42$ – Carte achetée au Marché du Progrès de Gatineau\nMélanie Dubois-Bélisle de Ste-Cécile-de-Masham – 71\,42$ – Carte achetée chez Le P’tit Magasin Général de Ste-Cécile-de-Masham\nChristine Trépanier de St-Jean-sur-Richelieu – 71\,42$ – Carte achetée au Dépanneur Relais-des-Chutes de Grand-Remous
URL:https://www.chga.fm/evenement/bingo-chga-special-66/
LOCATION:QC\, Canada
CATEGORIES:Bingo CHGA
END:VEVENT
END:VCALENDAR