BEGIN:VCALENDAR
VERSION:2.0
PRODID:-//CHGA - ECPv6.15.20//NONSGML v1.0//EN
CALSCALE:GREGORIAN
METHOD:PUBLISH
X-WR-CALNAME:CHGA
X-ORIGINAL-URL:https://www.chga.fm
X-WR-CALDESC:évènements pour CHGA
REFRESH-INTERVAL;VALUE=DURATION:PT1H
X-Robots-Tag:noindex
X-PUBLISHED-TTL:PT1H
BEGIN:VTIMEZONE
TZID:America/Toronto
BEGIN:DAYLIGHT
TZOFFSETFROM:-0500
TZOFFSETTO:-0400
TZNAME:EDT
DTSTART:20210314T070000
END:DAYLIGHT
BEGIN:STANDARD
TZOFFSETFROM:-0400
TZOFFSETTO:-0500
TZNAME:EST
DTSTART:20211107T060000
END:STANDARD
BEGIN:DAYLIGHT
TZOFFSETFROM:-0500
TZOFFSETTO:-0400
TZNAME:EDT
DTSTART:20220313T070000
END:DAYLIGHT
BEGIN:STANDARD
TZOFFSETFROM:-0400
TZOFFSETTO:-0500
TZNAME:EST
DTSTART:20221106T060000
END:STANDARD
BEGIN:DAYLIGHT
TZOFFSETFROM:-0500
TZOFFSETTO:-0400
TZNAME:EDT
DTSTART:20230312T070000
END:DAYLIGHT
BEGIN:STANDARD
TZOFFSETFROM:-0400
TZOFFSETTO:-0500
TZNAME:EST
DTSTART:20231105T060000
END:STANDARD
END:VTIMEZONE
BEGIN:VEVENT
DTSTART;TZID=America/Toronto:20220807T163000
DTEND;TZID=America/Toronto:20220807T173000
DTSTAMP:20260421T030203
CREATED:20211214T160102Z
LAST-MODIFIED:20220809T131738Z
UID:393305-1659889800-1659893400@www.chga.fm
SUMMARY:Bingo CHGA spécial
DESCRIPTION:Le bingo de ce dimanche en est un spécial avec un total de 5000$ à gagner. Il se jouera sur des cartes rouges à 10$\, disponibles chez les différents dépositaires. \nLe bingo de CHGA\, tous les dimanches à 16 h 30! \nLes gagnants\nTour du gratuit \n\nLinda Raby de Gatineau : 83\,35 $ – Carte achetée au Dépanneur chez Dan de Notre-Dame-de-la-Salette\nStéphane Brazeau de Gatineau : 83\,33 $ – Carte achetée au Marché du Progrès de Gatineau\nClaire Morin d’Aumond : 83\,33 $ – Carte achetée à l’Épicerie Aumond à Aumond\nPauline Morin de Montcerf-Lytton : 83\,33 $ – Carte achetée au Dépanneur Relais des chutes de Grand-Remous\nBenoit Arbique de Kazabazua : 83\,33 $ – Carte achetée à l’Épicerie 4 fourches de Déléage\nMicheline Rochon de Point-Comfort : 83\,33 $ – Carte achetée au Dépanneur des Lacs de Gracefield\n\nLignes du haut et du bas \n\nMicheline Piché de Mont-Laurier : 500 $ – Carte achetée au Dépanneur Relais des chutes de Grand-Remous\n\nLettres BNO \n\nLindsay Roy de Rupert : 500 $ – Carte acheté au Dépanneur Bélisle de Low\n\nCarte pleine \n\nVanessa Lanois de Gatineau : 3000 $ – Carte achetée au Marché du progrès de Gatineau\n\nConsolation  \n\nChristine Leduc de Masham : 250 $ – Carte achetée au P’tit magasin général de East Alfield\nLevis Patry de Gracefield : 250 $ – Carte achetée à la Station l’aventure de Gracefield
URL:https://www.chga.fm/evenement/bingo-chga-special-64/
LOCATION:QC\, Canada
CATEGORIES:Bingo CHGA
END:VEVENT
END:VCALENDAR