BEGIN:VCALENDAR
VERSION:2.0
PRODID:-//CHGA - ECPv6.15.20//NONSGML v1.0//EN
CALSCALE:GREGORIAN
METHOD:PUBLISH
X-WR-CALNAME:CHGA
X-ORIGINAL-URL:https://www.chga.fm
X-WR-CALDESC:évènements pour CHGA
REFRESH-INTERVAL;VALUE=DURATION:PT1H
X-Robots-Tag:noindex
X-PUBLISHED-TTL:PT1H
BEGIN:VTIMEZONE
TZID:America/Toronto
BEGIN:DAYLIGHT
TZOFFSETFROM:-0500
TZOFFSETTO:-0400
TZNAME:EDT
DTSTART:20220313T070000
END:DAYLIGHT
BEGIN:STANDARD
TZOFFSETFROM:-0400
TZOFFSETTO:-0500
TZNAME:EST
DTSTART:20221106T060000
END:STANDARD
BEGIN:DAYLIGHT
TZOFFSETFROM:-0500
TZOFFSETTO:-0400
TZNAME:EDT
DTSTART:20230312T070000
END:DAYLIGHT
BEGIN:STANDARD
TZOFFSETFROM:-0400
TZOFFSETTO:-0500
TZNAME:EST
DTSTART:20231105T060000
END:STANDARD
BEGIN:DAYLIGHT
TZOFFSETFROM:-0500
TZOFFSETTO:-0400
TZNAME:EDT
DTSTART:20240310T070000
END:DAYLIGHT
BEGIN:STANDARD
TZOFFSETFROM:-0400
TZOFFSETTO:-0500
TZNAME:EST
DTSTART:20241103T060000
END:STANDARD
END:VTIMEZONE
BEGIN:VEVENT
DTSTART;TZID=America/Toronto:20230604T163000
DTEND;TZID=America/Toronto:20230604T173000
DTSTAMP:20260420T100850
CREATED:20230529T171225Z
LAST-MODIFIED:20230606T181828Z
UID:424486-1685896200-1685899800@www.chga.fm
SUMMARY:Bingo CHGA spécial
DESCRIPTION:Le bingo de ce dimanche en est un spécial avec un total de 5000$ à gagner. Il se jouera sur des cartes rouges à 10$\, disponibles chez les différents dépositaires. \nLe bingo de CHGA\, tous les dimanches à 16 h 30! \nLes gagnants \nLettre X\n\nRichard Dumoulin de Otter Lake – 500$ – Carte achetée au Dépanneur le Coin Picanoc de Otter Lake\n\nCroix et quatre coins\n\nÉtienne Thibodeau de Notre-Dame-du-Laus – 500$ – Carte achetée à la Station Sonic de Notre-Dame-du-Laus\n\nLe tour de la carte\n\nAlexandra Lyrette Masson de Thurso – 500$ – Carte achetée au Garage Boisvenue de Gracefield\n\nCarte pleine\n\nStéphanie Martin de Gatineau – 3 000$ – Carte achetée à l’Épicerie Mulligan de Cayamant\n\nConsolation\n\nNadine Blais de Gracefield – 500$ – Carte achetée au Dépanneur des Lac de Gracefield
URL:https://www.chga.fm/evenement/bingo-chga-special-61/
LOCATION:QC\, Canada
CATEGORIES:Bingo CHGA
END:VEVENT
END:VCALENDAR