BEGIN:VCALENDAR
VERSION:2.0
PRODID:-//CHGA - ECPv6.15.20//NONSGML v1.0//EN
CALSCALE:GREGORIAN
METHOD:PUBLISH
X-WR-CALNAME:CHGA
X-ORIGINAL-URL:https://www.chga.fm
X-WR-CALDESC:évènements pour CHGA
REFRESH-INTERVAL;VALUE=DURATION:PT1H
X-Robots-Tag:noindex
X-PUBLISHED-TTL:PT1H
BEGIN:VTIMEZONE
TZID:America/Toronto
BEGIN:DAYLIGHT
TZOFFSETFROM:-0500
TZOFFSETTO:-0400
TZNAME:EDT
DTSTART:20210314T070000
END:DAYLIGHT
BEGIN:STANDARD
TZOFFSETFROM:-0400
TZOFFSETTO:-0500
TZNAME:EST
DTSTART:20211107T060000
END:STANDARD
BEGIN:DAYLIGHT
TZOFFSETFROM:-0500
TZOFFSETTO:-0400
TZNAME:EDT
DTSTART:20220313T070000
END:DAYLIGHT
BEGIN:STANDARD
TZOFFSETFROM:-0400
TZOFFSETTO:-0500
TZNAME:EST
DTSTART:20221106T060000
END:STANDARD
BEGIN:DAYLIGHT
TZOFFSETFROM:-0500
TZOFFSETTO:-0400
TZNAME:EDT
DTSTART:20230312T070000
END:DAYLIGHT
BEGIN:STANDARD
TZOFFSETFROM:-0400
TZOFFSETTO:-0500
TZNAME:EST
DTSTART:20231105T060000
END:STANDARD
END:VTIMEZONE
BEGIN:VEVENT
DTSTART;TZID=America/Toronto:20220703T163000
DTEND;TZID=America/Toronto:20220703T173000
DTSTAMP:20260421T033213
CREATED:20211214T155611Z
LAST-MODIFIED:20220704T144927Z
UID:393301-1656865800-1656869400@www.chga.fm
SUMMARY:Bingo CHGA spécial
DESCRIPTION:Le bingo de ce dimanche en est un spécial avec un total de 5000$ à gagner. Il se jouera sur des cartes rouges à 10$\, disponibles chez les différents dépositaires. \nLe bingo de CHGA\, tous les dimanches à 16 h 30! \nLes gagnants \nTour du gratuit\n\nRoxanne Bélisle de Masham – 250$ – Carte achetée à l’Épicerie Masham de Masham\nJoanne Lauzon de Gatineau – 250$ – Carte achetée au Marché du Progrès de Gatineau\n\nLignes du haut et du bas\n\nDiane Marenger de Lac Cayamant – 250$ – Carte achetée à l’Épicerie Mulligan de Cayamant\nNathalie Demers de St-Jean-sur-le-Lac – 250$ – Carte achetée au Dépanneur Dinelle de Mont-Laurier\n\nLettes BNO\n\nJohanne Breton de Ste-Cécile de Masham – 250$ – Carte achetée à l’Épicerie Masham de Masham\nJean-François Larose de Chelsea – 250$ – Carte achetée à la COOP de Bouchette de Bouchette\n\nCarte pleine\n\nColette Saumure de Maniwaki – 3 000$ – Carte achetée à la Radio CHGA de Maniwaki\n\n2e carte de pleine\n\nCarmen Gravelle de Sainte-Cécile-de-Masham – 500$ – Carte achetée à la Boucherie MS de Masham
URL:https://www.chga.fm/evenement/bingo-chga-special-60/
LOCATION:QC\, Canada
CATEGORIES:Bingo CHGA
END:VEVENT
END:VCALENDAR