BEGIN:VCALENDAR
VERSION:2.0
PRODID:-//CHGA - ECPv6.15.20//NONSGML v1.0//EN
CALSCALE:GREGORIAN
METHOD:PUBLISH
X-WR-CALNAME:CHGA
X-ORIGINAL-URL:https://www.chga.fm
X-WR-CALDESC:évènements pour CHGA
REFRESH-INTERVAL;VALUE=DURATION:PT1H
X-Robots-Tag:noindex
X-PUBLISHED-TTL:PT1H
BEGIN:VTIMEZONE
TZID:America/Toronto
BEGIN:DAYLIGHT
TZOFFSETFROM:-0500
TZOFFSETTO:-0400
TZNAME:EDT
DTSTART:20210314T070000
END:DAYLIGHT
BEGIN:STANDARD
TZOFFSETFROM:-0400
TZOFFSETTO:-0500
TZNAME:EST
DTSTART:20211107T060000
END:STANDARD
BEGIN:DAYLIGHT
TZOFFSETFROM:-0500
TZOFFSETTO:-0400
TZNAME:EDT
DTSTART:20220313T070000
END:DAYLIGHT
BEGIN:STANDARD
TZOFFSETFROM:-0400
TZOFFSETTO:-0500
TZNAME:EST
DTSTART:20221106T060000
END:STANDARD
BEGIN:DAYLIGHT
TZOFFSETFROM:-0500
TZOFFSETTO:-0400
TZNAME:EDT
DTSTART:20230312T070000
END:DAYLIGHT
BEGIN:STANDARD
TZOFFSETFROM:-0400
TZOFFSETTO:-0500
TZNAME:EST
DTSTART:20231105T060000
END:STANDARD
END:VTIMEZONE
BEGIN:VEVENT
DTSTART;TZID=America/Toronto:20220320T163000
DTEND;TZID=America/Toronto:20220320T173000
DTSTAMP:20260421T082034
CREATED:20211214T154950Z
LAST-MODIFIED:20220321T155040Z
UID:393293-1647793800-1647797400@www.chga.fm
SUMMARY:Bingo CHGA spécial
DESCRIPTION:Le bingo de ce dimanche en est un spécial avec un total de 5000$ à gagner. Il se jouera sur des cartes rouges à 10$\, disponibles chez les différents dépositaires. \nLe bingo de CHGA\, tous les dimanches à 16 h 30! \nLes gagnants \nTour du gratuit\n\nCéline Gouin de Gatineau – 166\,67$ – Carte achetée au Garage Boisvenue de Gracefield\nLinda renaud de Wakefield – 166\,67$ – Carte achetée à l’Épicerie M.N. de Masham\nAlain Bélisle de Mont-Laurier – 166\,66$ – Carte achetée au Dépanneur Jules Bonisoir de Mt-Laurier\n\nLignes du haut et du bas\n\nChantale Pilon de Déléage – 250$ – Carte achetée à l’Épicerie 4 Fourches de Déléage\nSylvia Bastien de Notre-Dame du Laus – 250$ – Carte achetée au Dépanneur Larocque de N-Dame du Laus\n\nLettes BNO\n\nDenis Martel de Notre-Dame du Laus – 166\,67$ – Carte achetée au Dépanneur du village Val-des Bois de Val-des Bois\nColette Lachapelle de Gatineau – 166\,67$ – Carte achetée au Garage Boisvenue de Gracefield\nRichard Caron de Gracefield – 166\,66$ – Carte achetée à la Station L’Aventure de Gracefield\n\nCarte pleine\n\nAnne Larocque de Gatineau – 3 000$ – Carte achetée au Marché du Progrès de Gatineau
URL:https://www.chga.fm/evenement/bingo-chga-special-52/
LOCATION:QC\, Canada
CATEGORIES:Bingo CHGA
END:VEVENT
END:VCALENDAR