BEGIN:VCALENDAR
VERSION:2.0
PRODID:-//CHGA - ECPv6.15.20//NONSGML v1.0//EN
CALSCALE:GREGORIAN
METHOD:PUBLISH
X-WR-CALNAME:CHGA
X-ORIGINAL-URL:https://www.chga.fm
X-WR-CALDESC:évènements pour CHGA
REFRESH-INTERVAL;VALUE=DURATION:PT1H
X-Robots-Tag:noindex
X-PUBLISHED-TTL:PT1H
BEGIN:VTIMEZONE
TZID:America/Toronto
BEGIN:DAYLIGHT
TZOFFSETFROM:-0500
TZOFFSETTO:-0400
TZNAME:EDT
DTSTART:20210314T070000
END:DAYLIGHT
BEGIN:STANDARD
TZOFFSETFROM:-0400
TZOFFSETTO:-0500
TZNAME:EST
DTSTART:20211107T060000
END:STANDARD
BEGIN:DAYLIGHT
TZOFFSETFROM:-0500
TZOFFSETTO:-0400
TZNAME:EDT
DTSTART:20220313T070000
END:DAYLIGHT
BEGIN:STANDARD
TZOFFSETFROM:-0400
TZOFFSETTO:-0500
TZNAME:EST
DTSTART:20221106T060000
END:STANDARD
BEGIN:DAYLIGHT
TZOFFSETFROM:-0500
TZOFFSETTO:-0400
TZNAME:EDT
DTSTART:20230312T070000
END:DAYLIGHT
BEGIN:STANDARD
TZOFFSETFROM:-0400
TZOFFSETTO:-0500
TZNAME:EST
DTSTART:20231105T060000
END:STANDARD
END:VTIMEZONE
BEGIN:VEVENT
DTSTART;TZID=America/Toronto:20220306T163000
DTEND;TZID=America/Toronto:20220306T173000
DTSTAMP:20260421T093233
CREATED:20211214T154809Z
LAST-MODIFIED:20220310T171418Z
UID:393291-1646584200-1646587800@www.chga.fm
SUMMARY:Bingo CHGA spécial
DESCRIPTION:Le bingo de ce dimanche en est un spécial avec un total de 5000$ à gagner. Il se jouera sur des cartes rouges à 10$\, disponibles chez les différents dépositaires. \nLe bingo de CHGA\, tous les dimanches à 16 h 30! \nLes gagnants \nTour du gratuit\n\nLouise Côté de Prévost – 500$ – Carte achetée à la Radio CHGA de Maniwaki\n\nLignes du haut et du bas\n\nJessica Courville de Gracefield – 500$ – Carte achetée au Mini Marché Gracefield de Gracefield\n\nLettes BNO\n\nLouise Peck de Bowman – 250$ – Carte achetée au Dépanneur du Village de Val-des-Bois\nRichard Fournier de Déléage – 250$ – Carte achetée à l’Épicerie 4 Fourches de Déléage\n\nCarte pleine\n\nGeorges Bénard de Messines – 3 000$ – Carte achetée au Dépanneur Val-Guertin de Messines\n\n2e carte de pleine\n\nFélicia Gabie de Messines – 500$ – Carte achetée au Dépanneur Gorley de Messines
URL:https://www.chga.fm/evenement/bingo-chga-special-50/
LOCATION:QC\, Canada
CATEGORIES:Bingo CHGA
END:VEVENT
END:VCALENDAR