BEGIN:VCALENDAR
VERSION:2.0
PRODID:-//CHGA - ECPv6.15.20//NONSGML v1.0//EN
CALSCALE:GREGORIAN
METHOD:PUBLISH
X-WR-CALNAME:CHGA
X-ORIGINAL-URL:https://www.chga.fm
X-WR-CALDESC:évènements pour CHGA
REFRESH-INTERVAL;VALUE=DURATION:PT1H
X-Robots-Tag:noindex
X-PUBLISHED-TTL:PT1H
BEGIN:VTIMEZONE
TZID:America/Toronto
BEGIN:DAYLIGHT
TZOFFSETFROM:-0500
TZOFFSETTO:-0400
TZNAME:EDT
DTSTART:20210314T070000
END:DAYLIGHT
BEGIN:STANDARD
TZOFFSETFROM:-0400
TZOFFSETTO:-0500
TZNAME:EST
DTSTART:20211107T060000
END:STANDARD
BEGIN:DAYLIGHT
TZOFFSETFROM:-0500
TZOFFSETTO:-0400
TZNAME:EDT
DTSTART:20220313T070000
END:DAYLIGHT
BEGIN:STANDARD
TZOFFSETFROM:-0400
TZOFFSETTO:-0500
TZNAME:EST
DTSTART:20221106T060000
END:STANDARD
BEGIN:DAYLIGHT
TZOFFSETFROM:-0500
TZOFFSETTO:-0400
TZNAME:EDT
DTSTART:20230312T070000
END:DAYLIGHT
BEGIN:STANDARD
TZOFFSETFROM:-0400
TZOFFSETTO:-0500
TZNAME:EST
DTSTART:20231105T060000
END:STANDARD
END:VTIMEZONE
BEGIN:VEVENT
DTSTART;TZID=America/Toronto:20220220T163000
DTEND;TZID=America/Toronto:20220220T173000
DTSTAMP:20260421T122402
CREATED:20211214T154514Z
LAST-MODIFIED:20220221T171312Z
UID:393288-1645374600-1645378200@www.chga.fm
SUMMARY:Bingo CHGA spécial
DESCRIPTION:Le bingo de ce dimanche en est un spécial avec un total de 5000$ à gagner. Il se jouera sur des cartes rouges à 10$\, disponibles chez les différents dépositaires. \nLe bingo de CHGA\, tous les dimanches à 16 h 30! \nLes gagnants \nTour du gratuit\n\nLucie Major de Sainte-Famille d’Aumond – 500$ – Carte achetée à l’Épicerie 4 Fourches de Déléage\n\nLignes du haut et du bas\n\nLouise Richard de Messines – 500$ – Carte achetée au Marché de Messines de Messines\n\nLettes BNO\n\nValérie Hurtubise de Gatineau – 166\,67$ – Carte achetée au Marché du Progrès de Gatineau\nYves Ritchot de Lac-Des-ILes – 166\,67$ – Carte achetée au Dépanneur Gorley de Messines\nCécile Cousineau de Masham – 166\,66$ – Carte achetée au Garage Boisvenue de Gracefield\n\nCarte pleine\n\nLorraine Morin de Sainte-Famille d’Aumond –3 000$ – Carte achetée à l’ÉpicerieAumond de Aumond\n\n2e carte de pleine\n\nRaymond Tremblay de Blue Sea – 500$ – Carte achetée au Marché Omni Richard de Blue Sea
URL:https://www.chga.fm/evenement/bingo-chga-special-47/
LOCATION:QC\, Canada
CATEGORIES:Bingo CHGA
END:VEVENT
END:VCALENDAR