BEGIN:VCALENDAR
VERSION:2.0
PRODID:-//CHGA - ECPv6.15.20//NONSGML v1.0//EN
CALSCALE:GREGORIAN
METHOD:PUBLISH
X-WR-CALNAME:CHGA
X-ORIGINAL-URL:https://www.chga.fm
X-WR-CALDESC:évènements pour CHGA
REFRESH-INTERVAL;VALUE=DURATION:PT1H
X-Robots-Tag:noindex
X-PUBLISHED-TTL:PT1H
BEGIN:VTIMEZONE
TZID:America/Toronto
BEGIN:DAYLIGHT
TZOFFSETFROM:-0500
TZOFFSETTO:-0400
TZNAME:EDT
DTSTART:20210314T070000
END:DAYLIGHT
BEGIN:STANDARD
TZOFFSETFROM:-0400
TZOFFSETTO:-0500
TZNAME:EST
DTSTART:20211107T060000
END:STANDARD
BEGIN:DAYLIGHT
TZOFFSETFROM:-0500
TZOFFSETTO:-0400
TZNAME:EDT
DTSTART:20220313T070000
END:DAYLIGHT
BEGIN:STANDARD
TZOFFSETFROM:-0400
TZOFFSETTO:-0500
TZNAME:EST
DTSTART:20221106T060000
END:STANDARD
BEGIN:DAYLIGHT
TZOFFSETFROM:-0500
TZOFFSETTO:-0400
TZNAME:EDT
DTSTART:20230312T070000
END:DAYLIGHT
BEGIN:STANDARD
TZOFFSETFROM:-0400
TZOFFSETTO:-0500
TZNAME:EST
DTSTART:20231105T060000
END:STANDARD
END:VTIMEZONE
BEGIN:VEVENT
DTSTART;TZID=America/Toronto:20220213T163000
DTEND;TZID=America/Toronto:20220213T173000
DTSTAMP:20260421T122402
CREATED:20211214T154423Z
LAST-MODIFIED:20220217T141244Z
UID:393287-1644769800-1644773400@www.chga.fm
SUMMARY:Bingo CHGA spécial
DESCRIPTION:Le bingo de ce dimanche en est un spécial avec un total de 5000$ à gagner. Il se jouera sur des cartes rouges à 10$\, disponibles chez les différents dépositaires. \nLe bingo de CHGA\, tous les dimanches à 16 h 30! \nLes gagnants \nTour du gratuit\n\nDenise Larose de Notre-Dame-de-la-Salette – 500$ – Carte achetée au Dépanneur Chez Dan de Notre-dame-de-la-Salette\n\nLignes du haut et du bas\n\nChristiane Langevin de Grand-Remous – 500$ – Carte achetée au Dépanneur Relais des Chutes de Grand-Remous\n\nLettes BNO\n\nMariette Rochon de Sainte-Thérèse de la Gatineau – 500$ – Carte achetée à l’Épicerie 4 Fourches de Déléage\n\nCarte pleine\n\nMonique Fortin de Messines –1 500$ – Carte achetée au Dépanneur Gorley de Messines\nNicole Gagnon de Cantley –1 500$ – Carte achetée au Dépanneur 307 de Cantley\n\n2e carte de pleine\n\nPierre Meunier de Déléage – 166\,68$ – Carte achetée à l’Épicerie Aumond de Aumond\nNathalie Britt de Maniwaki – 166\,66$ – Carte achetée au Tigre Géant de Maniwaki\nLucie Leduc de Maniwaki – 166\,66$ – Carte achetée à Essence + Canadian tire de Maniwaki
URL:https://www.chga.fm/evenement/bingo-chga-special-46/
LOCATION:QC\, Canada
CATEGORIES:Bingo CHGA
END:VEVENT
END:VCALENDAR