BEGIN:VCALENDAR
VERSION:2.0
PRODID:-//CHGA - ECPv6.15.20//NONSGML v1.0//EN
CALSCALE:GREGORIAN
METHOD:PUBLISH
X-WR-CALNAME:CHGA
X-ORIGINAL-URL:https://www.chga.fm
X-WR-CALDESC:évènements pour CHGA
REFRESH-INTERVAL;VALUE=DURATION:PT1H
X-Robots-Tag:noindex
X-PUBLISHED-TTL:PT1H
BEGIN:VTIMEZONE
TZID:America/Toronto
BEGIN:DAYLIGHT
TZOFFSETFROM:-0500
TZOFFSETTO:-0400
TZNAME:EDT
DTSTART:20210314T070000
END:DAYLIGHT
BEGIN:STANDARD
TZOFFSETFROM:-0400
TZOFFSETTO:-0500
TZNAME:EST
DTSTART:20211107T060000
END:STANDARD
BEGIN:DAYLIGHT
TZOFFSETFROM:-0500
TZOFFSETTO:-0400
TZNAME:EDT
DTSTART:20220313T070000
END:DAYLIGHT
BEGIN:STANDARD
TZOFFSETFROM:-0400
TZOFFSETTO:-0500
TZNAME:EST
DTSTART:20221106T060000
END:STANDARD
BEGIN:DAYLIGHT
TZOFFSETFROM:-0500
TZOFFSETTO:-0400
TZNAME:EDT
DTSTART:20230312T070000
END:DAYLIGHT
BEGIN:STANDARD
TZOFFSETFROM:-0400
TZOFFSETTO:-0500
TZNAME:EST
DTSTART:20231105T060000
END:STANDARD
END:VTIMEZONE
BEGIN:VEVENT
DTSTART;TZID=America/Toronto:20220206T163000
DTEND;TZID=America/Toronto:20220206T173000
DTSTAMP:20260421T122313
CREATED:20211214T151450Z
LAST-MODIFIED:20220209T184916Z
UID:393284-1644165000-1644168600@www.chga.fm
SUMMARY:Bingo CHGA spécial
DESCRIPTION:Le bingo de ce dimanche en est un spécial avec un total de 5000$ à gagner. Il se jouera sur des cartes rouges à 10$\, disponibles chez les différents dépositaires. \nLe bingo de CHGA\, tous les dimanches à 16 h 30! \nLes gagnants \nTour du gratuit\n\nMichel Bouchard de Mont-Laurier – 166\,67$ – Carte achetée au Dépanneur Dinel de Mont-Laurier\nMichel Blais de Pointe-Comfort – 166\,67$ – Carte achetée au Dépanneur G.B Caron de Gracefield\nSylvie Morin de Gatineau – 166\,66$ – Carte achetée au Dépanneur D.Wolfe de Masson-Anger\n\nLignes du haut et du bas\n\nDanielle Lepage de Gatineau – 500$ – Carte achetée au Marché du Progrès de Gatineau\n\nLettes BNO\n\nGinette Wabamoose de Lac Rapide – 166\,67$ – Carte achetée au Dépanneur le Domaine de la Réserve Faunique La Vérendry\nNathalie Taillefer de Hull – 166\,67$ – Carte achetée au Marché du Progrès de Gatineau\nCorinne Côté de Masson-Anger – 166\,67$ – Carte achetée au Dépanneur D.Wolfe de Masson-Anger\n\nCarte pleine\n\nBrenda Whalen de Maniwaki – 3 000$ – Carte achetée à l’Épicerie Réjean Grondin de Maniwaki\n\n2e carte de pleine\n\nEstelle Gagnon de Cayamant – 500$ – Carte achetée à l’Épicerie Mulligan de Cayamant
URL:https://www.chga.fm/evenement/bingo-chga-special-45/
LOCATION:QC\, Canada
CATEGORIES:Bingo CHGA
END:VEVENT
END:VCALENDAR