BEGIN:VCALENDAR
VERSION:2.0
PRODID:-//CHGA - ECPv6.15.20//NONSGML v1.0//EN
CALSCALE:GREGORIAN
METHOD:PUBLISH
X-WR-CALNAME:CHGA
X-ORIGINAL-URL:https://www.chga.fm
X-WR-CALDESC:évènements pour CHGA
REFRESH-INTERVAL;VALUE=DURATION:PT1H
X-Robots-Tag:noindex
X-PUBLISHED-TTL:PT1H
BEGIN:VTIMEZONE
TZID:America/Toronto
BEGIN:DAYLIGHT
TZOFFSETFROM:-0500
TZOFFSETTO:-0400
TZNAME:EDT
DTSTART:20210314T070000
END:DAYLIGHT
BEGIN:STANDARD
TZOFFSETFROM:-0400
TZOFFSETTO:-0500
TZNAME:EST
DTSTART:20211107T060000
END:STANDARD
BEGIN:DAYLIGHT
TZOFFSETFROM:-0500
TZOFFSETTO:-0400
TZNAME:EDT
DTSTART:20220313T070000
END:DAYLIGHT
BEGIN:STANDARD
TZOFFSETFROM:-0400
TZOFFSETTO:-0500
TZNAME:EST
DTSTART:20221106T060000
END:STANDARD
BEGIN:DAYLIGHT
TZOFFSETFROM:-0500
TZOFFSETTO:-0400
TZNAME:EDT
DTSTART:20230312T070000
END:DAYLIGHT
BEGIN:STANDARD
TZOFFSETFROM:-0400
TZOFFSETTO:-0500
TZNAME:EST
DTSTART:20231105T060000
END:STANDARD
END:VTIMEZONE
BEGIN:VEVENT
DTSTART;TZID=America/Toronto:20220116T163000
DTEND;TZID=America/Toronto:20220116T173000
DTSTAMP:20260421T123232
CREATED:20211214T151357Z
LAST-MODIFIED:20220121T200818Z
UID:393283-1642350600-1642354200@www.chga.fm
SUMMARY:Bingo CHGA spécial
DESCRIPTION:Le bingo de ce dimanche en est un spécial avec un total de 5000$ à gagner. Il se jouera sur des cartes rouges à 10$\, disponibles chez les différents dépositaires. \nLe bingo de CHGA\, tous les dimanches à 16 h 30! \nLes gagnants \nTour du gratuit\n\nFrancine Bélisle de Masham – 500$ – Carte achetée à la Boucherie M.S. de Masham\n\nLignes du haut et du bas\n\nDoris Gorman de Ste-Thérèse-de-la-Gatineau – 500$ – Carte achetée à l’Épicerie 4 Fourches de Déléage\n\nLettes BNO\n\nRobert Mayrand de Low – 250$ – Carte achetée au Dépanneur Bélisle de Low\nYves Bourgon de Notre-Dame-de-la-Salette – 250$ – Carte achetée au Dépanneur Chez Dan de Notre-Dame-de-la-Salette\n\nCarte pleine\n\nJohanne Jémus de Gatineau – 3 000$ – Carte achetée au Marché du Progrès de Gatineau\n\n2e carte de pleine\n\nJudy McConnery de Messines – 250$ – Carte achetée au Dépanneur Gorley de Messines\nLéo Paul Labelle de Gracefield – 250$ – Carte achetée au Garage Boisvenue de Gracefield
URL:https://www.chga.fm/evenement/bingo-chga-special-44/
LOCATION:QC\, Canada
CATEGORIES:Bingo CHGA
END:VEVENT
END:VCALENDAR