BEGIN:VCALENDAR
VERSION:2.0
PRODID:-//CHGA - ECPv6.15.20//NONSGML v1.0//EN
CALSCALE:GREGORIAN
METHOD:PUBLISH
X-WR-CALNAME:CHGA
X-ORIGINAL-URL:https://www.chga.fm
X-WR-CALDESC:évènements pour CHGA
REFRESH-INTERVAL;VALUE=DURATION:PT1H
X-Robots-Tag:noindex
X-PUBLISHED-TTL:PT1H
BEGIN:VTIMEZONE
TZID:America/Toronto
BEGIN:DAYLIGHT
TZOFFSETFROM:-0500
TZOFFSETTO:-0400
TZNAME:EDT
DTSTART:20200308T070000
END:DAYLIGHT
BEGIN:STANDARD
TZOFFSETFROM:-0400
TZOFFSETTO:-0500
TZNAME:EST
DTSTART:20201101T060000
END:STANDARD
BEGIN:DAYLIGHT
TZOFFSETFROM:-0500
TZOFFSETTO:-0400
TZNAME:EDT
DTSTART:20210314T070000
END:DAYLIGHT
BEGIN:STANDARD
TZOFFSETFROM:-0400
TZOFFSETTO:-0500
TZNAME:EST
DTSTART:20211107T060000
END:STANDARD
BEGIN:DAYLIGHT
TZOFFSETFROM:-0500
TZOFFSETTO:-0400
TZNAME:EDT
DTSTART:20220313T070000
END:DAYLIGHT
BEGIN:STANDARD
TZOFFSETFROM:-0400
TZOFFSETTO:-0500
TZNAME:EST
DTSTART:20221106T060000
END:STANDARD
END:VTIMEZONE
BEGIN:VEVENT
DTSTART;TZID=America/Toronto:20211121T080000
DTEND;TZID=America/Toronto:20211121T170000
DTSTAMP:20260421T165738
CREATED:20201110T153434Z
LAST-MODIFIED:20211125T212948Z
UID:372335-1637481600-1637514000@www.chga.fm
SUMMARY:Bingo CHGA spécial
DESCRIPTION:Le bingo de ce dimanche en est un spécial avec un total de 5000$ à gagner. Il se jouera sur des cartes rouges à 10$\, disponibles chez les différents dépositaires. \nLe bingo de CHGA\, tous les dimanches à 16 h 30! \nLes gagnants \nTour du gratuit\n\nValérie Hurtubise de Gatineau – 250$ – Carte achetée au Marché du Progrès de Gatineau\nPeggy-Lee Beauregard de Otter Lake – 250$ – Carte achetée au Marché Kaz de Kazabazua\n\nLignes du haut et du bas\n\nDaniel Turmaine de Gracefield – 125$ – Carte achetée à la Station L’Aventure de Gracefield\nTania Morissette de Gatineau – 150$ – Carte achetée au Dépanneur Belisle de Low\nClaudette Samson de Gatineau – 150$ – Carte achetée au Marché du Progrès de Gatineau\nSylvain Vézina de Gatineau – 150$ – Carte achetée au Dépanneur de la Montée de Cantley\n\nLettes BNO\n\nStéphanie Gagnon de Grand-Remous – 500$ – Carte achetée au Opano 105 de Bois-Franc\n\nCarte pleine\n\nSylvie Brazeau de Gatineau – 1 500$ – Carte achetée au Dépanneur de la Montée de Cantley\nMonique Lacroix de Maniwaki – 1 500$ – Carte achetée à l’Épicerie King de Maniwaki\n\n2e carte de pleine\n\nClaire Danis de Gatineau – 250$ – Carte achetée au Marché du Progrès de Gatineau\nRudy Ratt de Lac Barrière – 250$ – Carte achetée au Dépanneur GHT de Maniwaki
URL:https://www.chga.fm/evenement/bingo-chga-special-40/
LOCATION:QC\, Canada
CATEGORIES:Bingo CHGA
END:VEVENT
END:VCALENDAR