BEGIN:VCALENDAR
VERSION:2.0
PRODID:-//CHGA - ECPv6.15.20//NONSGML v1.0//EN
CALSCALE:GREGORIAN
METHOD:PUBLISH
X-WR-CALNAME:CHGA
X-ORIGINAL-URL:https://www.chga.fm
X-WR-CALDESC:évènements pour CHGA
REFRESH-INTERVAL;VALUE=DURATION:PT1H
X-Robots-Tag:noindex
X-PUBLISHED-TTL:PT1H
BEGIN:VTIMEZONE
TZID:America/Toronto
BEGIN:DAYLIGHT
TZOFFSETFROM:-0500
TZOFFSETTO:-0400
TZNAME:EDT
DTSTART:20200308T070000
END:DAYLIGHT
BEGIN:STANDARD
TZOFFSETFROM:-0400
TZOFFSETTO:-0500
TZNAME:EST
DTSTART:20201101T060000
END:STANDARD
BEGIN:DAYLIGHT
TZOFFSETFROM:-0500
TZOFFSETTO:-0400
TZNAME:EDT
DTSTART:20210314T070000
END:DAYLIGHT
BEGIN:STANDARD
TZOFFSETFROM:-0400
TZOFFSETTO:-0500
TZNAME:EST
DTSTART:20211107T060000
END:STANDARD
BEGIN:DAYLIGHT
TZOFFSETFROM:-0500
TZOFFSETTO:-0400
TZNAME:EDT
DTSTART:20220313T070000
END:DAYLIGHT
BEGIN:STANDARD
TZOFFSETFROM:-0400
TZOFFSETTO:-0500
TZNAME:EST
DTSTART:20221106T060000
END:STANDARD
END:VTIMEZONE
BEGIN:VEVENT
DTSTART;TZID=America/Toronto:20211128T163000
DTEND;TZID=America/Toronto:20211128T173000
DTSTAMP:20260421T152928
CREATED:20201110T153355Z
LAST-MODIFIED:20211220T203124Z
UID:372333-1638117000-1638120600@www.chga.fm
SUMMARY:Bingo CHGA spécial
DESCRIPTION:Le bingo de ce dimanche en est un spécial avec un total de 5000$ à gagner. Il se jouera sur des cartes rouges à 10$\, disponibles chez les différents dépositaires. \nLe bingo de CHGA\, tous les dimanches à 16 h 30! \nLes gagnants \nTour du gratuit\n\nMichel Larivière de Cayamant – 71\,43$ – Carte achetée à l’Épicerie Mulligan de Lac-Cayamant\nMichel Langevin de Déléage – 71\,43$ – Carte achetée à l’Épicerie King de Maniwaki\nRichard Paquer de Gatineau – 71\,43$ – Carte achetée au Marché du Progrès de Gatineau\nShirley Corbeil de Gatineau – 71\,43$ – Carte achetée au Dépanneur D. Wolfe de Masson-Angers\nClaude Perrier de Messines – 71\,43$ – Carte achetée au Dépanneur Messines de Messines\nRollande Chenier de Maniwaki – 71\,43$ – Carte achetée chez Essence Plus Canadian Tire de Maniwaki\nFrançoise Paquette de Val-Limoges – 71\,42$ – Carte achetée à l’Épicerie C.L. Ducharme de Mont-Laurier\n\nLignes du haut et du bas\n\nRita Tremblay de Gracefield – 500$ – Carte achetée au Metro Marché Kelly de Gracefield\n\nLettes BNO\n\nMicheline Mitchell de Maniwaki – 125$ – Carte achetée à la Tabagie Étoile de Kitigan Zibi\nMarsha Driscoll de Gatineau – 125$ – Carte achetée au Marché du Progrès de Gatineau\nMartine Payette de Bois-Franc – 125$ – Carte achetée chez O Pano 105 de Bois-Franc\nVivianne Doré de Lac-des-Écorces – 125$ – Carte achetée au Dépanneur Lacelle de Lac-des-Écorces\n\nCarte pleine\n\nNatalie Britt de Maniwaki – 1 500$ – Carte achetée à l’Épicerie Réjean Grondin de Maniwaki\nSandra Martineau de Notre-Dame-de-la-Salette – 1 500$ – Carte achetée au Dépanneur chez Dan de Notre-Dame-de-la-Salette\n\n2e carte de pleine\n\nSerge Gagnon de Messines – 125$ – Carte achetée au Dépanneur Gorley de Messines\nNancy Dubois de Wakefield – 125$ – Carte achetée à la Boucherie M.S. de Masham\nGabrielle St-Jacques de Maniwaki – 125$ – Carte achetée à l’Épicerie GHT de Maniwaki\nRachel Landry de Val-des-Bois – 125$ – Carte achetée au Dépanneur du Village de Val-des-Bois
URL:https://www.chga.fm/evenement/bingo-chga-special-39/
LOCATION:QC\, Canada
CATEGORIES:Bingo CHGA
END:VEVENT
END:VCALENDAR