BEGIN:VCALENDAR
VERSION:2.0
PRODID:-//CHGA - ECPv6.15.20//NONSGML v1.0//EN
CALSCALE:GREGORIAN
METHOD:PUBLISH
X-WR-CALNAME:CHGA
X-ORIGINAL-URL:https://www.chga.fm
X-WR-CALDESC:évènements pour CHGA
REFRESH-INTERVAL;VALUE=DURATION:PT1H
X-Robots-Tag:noindex
X-PUBLISHED-TTL:PT1H
BEGIN:VTIMEZONE
TZID:America/Toronto
BEGIN:DAYLIGHT
TZOFFSETFROM:-0500
TZOFFSETTO:-0400
TZNAME:EDT
DTSTART:20200308T070000
END:DAYLIGHT
BEGIN:STANDARD
TZOFFSETFROM:-0400
TZOFFSETTO:-0500
TZNAME:EST
DTSTART:20201101T060000
END:STANDARD
BEGIN:DAYLIGHT
TZOFFSETFROM:-0500
TZOFFSETTO:-0400
TZNAME:EDT
DTSTART:20210314T070000
END:DAYLIGHT
BEGIN:STANDARD
TZOFFSETFROM:-0400
TZOFFSETTO:-0500
TZNAME:EST
DTSTART:20211107T060000
END:STANDARD
BEGIN:DAYLIGHT
TZOFFSETFROM:-0500
TZOFFSETTO:-0400
TZNAME:EDT
DTSTART:20220313T070000
END:DAYLIGHT
BEGIN:STANDARD
TZOFFSETFROM:-0400
TZOFFSETTO:-0500
TZNAME:EST
DTSTART:20221106T060000
END:STANDARD
END:VTIMEZONE
BEGIN:VEVENT
DTSTART;TZID=America/Toronto:20210418T080000
DTEND;TZID=America/Toronto:20210418T170000
DTSTAMP:20260422T020406
CREATED:20201110T145332Z
LAST-MODIFIED:20210419T134345Z
UID:372263-1618732800-1618765200@www.chga.fm
SUMMARY:Bingo CHGA spécial
DESCRIPTION:Le bingo de ce dimanche en est un spécial avec un total de 5000$ à gagner. Il se jouera sur des cartes rouges à 10$\, disponibles chez les différents dépositaires. \nLe bingo de CHGA\, tous les dimanches à 16 h 30! \nLes gagnants \nTour du gratuit\n\nLyne Barbe de Buckingham – 250$ – Carte achetée au Dépanneur D Wolfe de Gatineau\nKim Charbonneau de Notre-Dame-du-Laus – 250$ – Carte achetée au Dépanneur Larocque de Thurso\n\nLignes du haut et du bas\n\nNicole Thibodeau de Val-des-Monts – 500$ – Carte achetée au Marché du Progrès de Gatineau\n\nLettes BNO\n\nSuzanne St-Jacques de Egan Sud – 500$ – Carte achetée à l’Épicerie GHT de Maniwaki\n\nCarte pleine\n\nManon Pelletier de Gatineau – 1 500$ – Carte achetée au Dépanneur D Wolfe de Gatineau\nPierre Latreille de Gatineau – 1 500$ – Carte achetée à la Boucherie MS de Masham\n\n2e carte de pleine\n\nSandra Fournier de Low – 500$ – Carte achetée à la Épicerie 4 Fourches de Déléage
URL:https://www.chga.fm/evenement/bingo-chga-special-23/
LOCATION:QC\, Canada
CATEGORIES:Bingo CHGA
END:VEVENT
END:VCALENDAR