BEGIN:VCALENDAR
VERSION:2.0
PRODID:-//CHGA - ECPv6.15.20//NONSGML v1.0//EN
CALSCALE:GREGORIAN
METHOD:PUBLISH
X-WR-CALNAME:CHGA
X-ORIGINAL-URL:https://www.chga.fm
X-WR-CALDESC:évènements pour CHGA
REFRESH-INTERVAL;VALUE=DURATION:PT1H
X-Robots-Tag:noindex
X-PUBLISHED-TTL:PT1H
BEGIN:VTIMEZONE
TZID:America/Toronto
BEGIN:DAYLIGHT
TZOFFSETFROM:-0500
TZOFFSETTO:-0400
TZNAME:EDT
DTSTART:20250309T070000
END:DAYLIGHT
BEGIN:STANDARD
TZOFFSETFROM:-0400
TZOFFSETTO:-0500
TZNAME:EST
DTSTART:20251102T060000
END:STANDARD
BEGIN:DAYLIGHT
TZOFFSETFROM:-0500
TZOFFSETTO:-0400
TZNAME:EDT
DTSTART:20260308T070000
END:DAYLIGHT
BEGIN:STANDARD
TZOFFSETFROM:-0400
TZOFFSETTO:-0500
TZNAME:EST
DTSTART:20261101T060000
END:STANDARD
BEGIN:DAYLIGHT
TZOFFSETFROM:-0500
TZOFFSETTO:-0400
TZNAME:EDT
DTSTART:20270314T070000
END:DAYLIGHT
BEGIN:STANDARD
TZOFFSETFROM:-0400
TZOFFSETTO:-0500
TZNAME:EST
DTSTART:20271107T060000
END:STANDARD
END:VTIMEZONE
BEGIN:VEVENT
DTSTART;TZID=America/Toronto:20260301T163000
DTEND;TZID=America/Toronto:20260301T170000
DTSTAMP:20260419T084630
CREATED:20260216T140517Z
LAST-MODIFIED:20260312T141851Z
UID:477497-1772382600-1772384400@www.chga.fm
SUMMARY:Bingo CHGA spécial
DESCRIPTION:Le bingo de ce dimanche en est un spécial avec un total de 5000$ à gagner. Il se jouera sur des cartes rouges à 10$\, disponibles chez les différents dépositaires. \nLe bingo de CHGA\, tous les dimanches à 16 h 30! \nLes gagnants \nLettre X\n\nJacinthe Lacelle de St-Jean sur le Lac – 500$ – Carte achetée au Dépanneur Dinel de Mont-Laurier\n\nCroix et quatre coins\n\nGuylaine Prud’Homme de Lac-des-Écorces – 500$ – Carte achetée au Dépanneur Jules de Mont-Laurier\n\nLe tour de la carte\n\nMélissa Sabourin de Gatineau – 500$ – Carte achetée au Dépanneur Madame la Pie de Gatineau\n\nCarte pleine\n\nFrance Deschamps de Gracefield – 1 500$ – Carte achetée au Garage Boisvenue de Gracefield\nNathalie Bilodeau de Ste-Anne-du-Lac – 1 500$ – Carte achetée chez Boni-Soir de Ferme-Neuve\n\nConsolation\n\nNathalie Blais de Gracefield – 500$ – Carte achetée à l’Épicerie 4 Fourches de Déléage
URL:https://www.chga.fm/evenement/bingo-chga-special-176/
CATEGORIES:Bingo CHGA
END:VEVENT
END:VCALENDAR