BEGIN:VCALENDAR
VERSION:2.0
PRODID:-//CHGA - ECPv6.15.20//NONSGML v1.0//EN
CALSCALE:GREGORIAN
METHOD:PUBLISH
X-WR-CALNAME:CHGA
X-ORIGINAL-URL:https://www.chga.fm
X-WR-CALDESC:évènements pour CHGA
REFRESH-INTERVAL;VALUE=DURATION:PT1H
X-Robots-Tag:noindex
X-PUBLISHED-TTL:PT1H
BEGIN:VTIMEZONE
TZID:America/Toronto
BEGIN:DAYLIGHT
TZOFFSETFROM:-0500
TZOFFSETTO:-0400
TZNAME:EDT
DTSTART:20190310T070000
END:DAYLIGHT
BEGIN:STANDARD
TZOFFSETFROM:-0400
TZOFFSETTO:-0500
TZNAME:EST
DTSTART:20191103T060000
END:STANDARD
BEGIN:DAYLIGHT
TZOFFSETFROM:-0500
TZOFFSETTO:-0400
TZNAME:EDT
DTSTART:20200308T070000
END:DAYLIGHT
BEGIN:STANDARD
TZOFFSETFROM:-0400
TZOFFSETTO:-0500
TZNAME:EST
DTSTART:20201101T060000
END:STANDARD
BEGIN:DAYLIGHT
TZOFFSETFROM:-0500
TZOFFSETTO:-0400
TZNAME:EDT
DTSTART:20210314T070000
END:DAYLIGHT
BEGIN:STANDARD
TZOFFSETFROM:-0400
TZOFFSETTO:-0500
TZNAME:EST
DTSTART:20211107T060000
END:STANDARD
END:VTIMEZONE
BEGIN:VEVENT
DTSTART;TZID=America/Toronto:20201206T163000
DTEND;TZID=America/Toronto:20201206T173000
DTSTAMP:20260422T093430
CREATED:20201110T142051Z
LAST-MODIFIED:20201210T190915Z
UID:372219-1607272200-1607275800@www.chga.fm
SUMMARY:Bingo CHGA spécial
DESCRIPTION:Le bingo de ce dimanche en est un spécial avec un total de 5000$ à gagner. Il se jouera sur des cartes rouges à 10$\, disponibles chez les différents dépositaires. \nLe bingo de CHGA\, tous les dimanches à 16 h 30! \nLes gagnants \nTour du gratuit\n\nDaniel Beaulne de Gatineau – 500$ – Carte achetée au Marché du progrès de Gatineau\n\nLignes du haut et du bas\n\nRita Berthiaume de Masham – 500$ – Carte achetée au Boucherie MS de Masham\n\nLettes BNO\n\nGaston Fortier de Déléage – 500$ – Carte achetée à Épicerie 4 Fourches de Déléage\n\nCarte pleine\n\nJulie Andrews-Lavigne de Gatineau – 3000$ – Carte achetée au Dépanneur D. Wolfe de Gatineau\n\n2e carte de pleine\n\nGaétanne Cléroux de Aylmer – 166\,66$ – Carte achetée au Dépanneur Madame La Pie de Gatineau\nLola Coté de Montcerf-Lytton – 166\,67$ – Carte achetée à l’Épicerie GHT de Maniwaki\nLine Sauvé de La Pêche – 166\,67$ – Carte achetée au Le P’tit Magasin Général de East-Aldfield
URL:https://www.chga.fm/evenement/bingo-chga-special-10/
LOCATION:QC\, Canada
CATEGORIES:Bingo CHGA
END:VEVENT
END:VCALENDAR