BEGIN:VCALENDAR
VERSION:2.0
PRODID:-//CHGA - ECPv6.15.20//NONSGML v1.0//EN
CALSCALE:GREGORIAN
METHOD:PUBLISH
X-WR-CALNAME:CHGA
X-ORIGINAL-URL:https://www.chga.fm
X-WR-CALDESC:évènements pour CHGA
REFRESH-INTERVAL;VALUE=DURATION:PT1H
X-Robots-Tag:noindex
X-PUBLISHED-TTL:PT1H
BEGIN:VTIMEZONE
TZID:America/Toronto
BEGIN:DAYLIGHT
TZOFFSETFROM:-0500
TZOFFSETTO:-0400
TZNAME:EDT
DTSTART:20190310T070000
END:DAYLIGHT
BEGIN:STANDARD
TZOFFSETFROM:-0400
TZOFFSETTO:-0500
TZNAME:EST
DTSTART:20191103T060000
END:STANDARD
BEGIN:DAYLIGHT
TZOFFSETFROM:-0500
TZOFFSETTO:-0400
TZNAME:EDT
DTSTART:20200308T070000
END:DAYLIGHT
BEGIN:STANDARD
TZOFFSETFROM:-0400
TZOFFSETTO:-0500
TZNAME:EST
DTSTART:20201101T060000
END:STANDARD
BEGIN:DAYLIGHT
TZOFFSETFROM:-0500
TZOFFSETTO:-0400
TZNAME:EDT
DTSTART:20210314T070000
END:DAYLIGHT
BEGIN:STANDARD
TZOFFSETFROM:-0400
TZOFFSETTO:-0500
TZNAME:EST
DTSTART:20211107T060000
END:STANDARD
END:VTIMEZONE
BEGIN:VEVENT
DTSTART;TZID=America/Toronto:20200913T163000
DTEND;TZID=America/Toronto:20200913T173000
DTSTAMP:20260422T125548
CREATED:20200823T132126Z
LAST-MODIFIED:20200914T171608Z
UID:351476-1600014600-1600018200@www.chga.fm
SUMMARY:Bingo CHGA régulier
DESCRIPTION:Le bingo de ce dimanche en est un spécial avec un total de 2800$ à gagner. Il se jouera sur des cartes bleues à 5$\, disponibles chez les différents dépositaires. \nLe bingo de CHGA\, tous les dimanches à 16 h 30! \nLes gagnants cette semaine : \nLettre L \n\nFrancine Boivin de Val-des-Bois – 83\,34$. Carte achetée au dépanneur du Village Val-des-Bois.\nMichel Brunet d’Aumond – 83\,34$. Carte achetée à l’Épicerie Aumond d’Aumond.\nIsabelle Lecoin de Gatineau – 83\,33$. Carte achetée au dépanneur Madame La Pie de Gatineau.\nAnne Lefebvre de Gracefield – 83\,33$. Carte achetée à la Tabagie du Centre de Maniwaki.\nVéronique Rondeau de Gatineau – 83\,33$. Carte achetée au dépanneur Madame La Pie de Gatineau.\nMance Morin de Déléage – 83\,33$. Carte achetée à la Tabagie du Centre de Maniwaki.\n\nLettres ING\n\nAnick Tremblay de Val-des-Bois – 250$. Carte achetée au dépanneur du Village Val-des-Bois.\nOlivier Bondu de Bois-Franc – 250$. Carte achetée au dépanneur Relais des chutes de Grand-Remous.\n\nCarte pleine\n\nLinda Levesque de Gracefield – 1500$. Carte achetée au Dépanneur Boisvenue\, Gracefield.\n\nConsolation\n\nCaroline Piché de Maniwaki – 300$. Carte achetée à l’Épicerie GHT de Maniwaki.
URL:https://www.chga.fm/evenement/bingo-chga-regulier/
LOCATION:QC\, Canada
CATEGORIES:Bingo CHGA
END:VEVENT
END:VCALENDAR