BEGIN:VCALENDAR
VERSION:2.0
PRODID:-//CHGA - ECPv6.15.20//NONSGML v1.0//EN
CALSCALE:GREGORIAN
METHOD:PUBLISH
X-WR-CALNAME:CHGA
X-ORIGINAL-URL:https://www.chga.fm
X-WR-CALDESC:évènements pour CHGA
REFRESH-INTERVAL;VALUE=DURATION:PT1H
X-Robots-Tag:noindex
X-PUBLISHED-TTL:PT1H
BEGIN:VTIMEZONE
TZID:America/Toronto
BEGIN:DAYLIGHT
TZOFFSETFROM:-0500
TZOFFSETTO:-0400
TZNAME:EDT
DTSTART:20220313T070000
END:DAYLIGHT
BEGIN:STANDARD
TZOFFSETFROM:-0400
TZOFFSETTO:-0500
TZNAME:EST
DTSTART:20221106T060000
END:STANDARD
BEGIN:DAYLIGHT
TZOFFSETFROM:-0500
TZOFFSETTO:-0400
TZNAME:EDT
DTSTART:20230312T070000
END:DAYLIGHT
BEGIN:STANDARD
TZOFFSETFROM:-0400
TZOFFSETTO:-0500
TZNAME:EST
DTSTART:20231105T060000
END:STANDARD
BEGIN:DAYLIGHT
TZOFFSETFROM:-0500
TZOFFSETTO:-0400
TZNAME:EDT
DTSTART:20240310T070000
END:DAYLIGHT
BEGIN:STANDARD
TZOFFSETFROM:-0400
TZOFFSETTO:-0500
TZNAME:EST
DTSTART:20241103T060000
END:STANDARD
END:VTIMEZONE
BEGIN:VEVENT
DTSTART;TZID=America/Toronto:20230910T163000
DTEND;TZID=America/Toronto:20230910T173000
DTSTAMP:20260420T054515
CREATED:20230529T181219Z
LAST-MODIFIED:20230912T133433Z
UID:424531-1694363400-1694367000@www.chga.fm
SUMMARY:Bingo CHGA régulier
DESCRIPTION:Le bingo de ce dimanche en est un spécial avec un total de 2800$ à gagner. Il se jouera sur des cartes bleues à 5$\, disponibles chez les différents dépositaires. \nLe bingo de CHGA\, tous les dimanches à 16 h 30! \nLes gagnants cette semaine :\nLettre T\n\nChantal Nadon de Gatineau – 166\,68$ – Carte achetée au Mini Marché Gros Do de Gatineau\nLinda Huneault de Aumond – 166\,66$ – Carte achetée à l’Épicerie Aumond de Aumond\nFrancine Lachapelle de Blue Sea – 166\,66$ – Carte achetée au Dépanneur Transit de Gracefield\n\nLettres U\n\nTracy Lacourse de Messines – 250$ – Carte achetée au Dépanneur Val-Guertin de Messines\nHélène Bondu de Notre-Dame-du-Laus – 250$ – Carte achetée au Station Sonic de Notre-Dame-du-Laus\n\nCarte pleine\n\nCarmen Crytes de Maniwaki- 1 500$ – Carte achetée chez Tigre Géant de Maniwaki\n\nConsolation\n\nDiane Rivet de Maniwaki – 33\,36$ – Carte achetée à l’Épicerie GHT de Maniwaki\nClaire Danis de Lac Ste-Marie – 33\,33$ – Carte achetée au Marché du Progrès de Maniwaki\nMartin Clavelle de Bowman – 33\,33$ – Carte achetée au Dépanneur du Village de Val-des-Bois\nLynne Méranger de Blue Sea – 33\,33$ – Carte achetée au Métro Marché Kelly de Gracefield\nAudrey Martin de La Pêche – 33\,33$ – Carte achetée au P’tit Magasin Général de East Aldfield\nMarco Beaudoin de Grand-Remous – 33\,33$ – Carte achetée au Dépanneur Relais des Chutes de Grand-Remous\nWendy Courtney de Gatineau – 33\,33$ – Carte achetée au Marché Kaz de Kazabazua\nLuc Labelle de Lac du Cerf – 33\,33$ – Carte achetée au Garage Martin Léonard de Lac du Cerf\nHélène Lécuyer de Gatineau – 33\,33$ – Carte achetée au Marché du Progrès de Maniwaki
URL:https://www.chga.fm/evenement/bingo-chga-regulier-63/
LOCATION:QC\, Canada
CATEGORIES:Bingo CHGA
END:VEVENT
END:VCALENDAR