BEGIN:VCALENDAR
VERSION:2.0
PRODID:-//CHGA - ECPv6.15.20//NONSGML v1.0//EN
CALSCALE:GREGORIAN
METHOD:PUBLISH
X-WR-CALNAME:CHGA
X-ORIGINAL-URL:https://www.chga.fm
X-WR-CALDESC:évènements pour CHGA
REFRESH-INTERVAL;VALUE=DURATION:PT1H
X-Robots-Tag:noindex
X-PUBLISHED-TTL:PT1H
BEGIN:VTIMEZONE
TZID:America/Toronto
BEGIN:DAYLIGHT
TZOFFSETFROM:-0500
TZOFFSETTO:-0400
TZNAME:EDT
DTSTART:20210314T070000
END:DAYLIGHT
BEGIN:STANDARD
TZOFFSETFROM:-0400
TZOFFSETTO:-0500
TZNAME:EST
DTSTART:20211107T060000
END:STANDARD
BEGIN:DAYLIGHT
TZOFFSETFROM:-0500
TZOFFSETTO:-0400
TZNAME:EDT
DTSTART:20220313T070000
END:DAYLIGHT
BEGIN:STANDARD
TZOFFSETFROM:-0400
TZOFFSETTO:-0500
TZNAME:EST
DTSTART:20221106T060000
END:STANDARD
BEGIN:DAYLIGHT
TZOFFSETFROM:-0500
TZOFFSETTO:-0400
TZNAME:EDT
DTSTART:20230312T070000
END:DAYLIGHT
BEGIN:STANDARD
TZOFFSETFROM:-0400
TZOFFSETTO:-0500
TZNAME:EST
DTSTART:20231105T060000
END:STANDARD
END:VTIMEZONE
BEGIN:VEVENT
DTSTART;TZID=America/Toronto:20221023T163000
DTEND;TZID=America/Toronto:20221023T173000
DTSTAMP:20260420T204735
CREATED:20211214T164721Z
LAST-MODIFIED:20221024T145221Z
UID:393352-1666542600-1666546200@www.chga.fm
SUMMARY:Bingo CHGA régulier
DESCRIPTION:Le bingo de ce dimanche en est un spécial avec un total de 2800$ à gagner. Il se jouera sur des cartes bleues à 5$\, disponibles chez les différents dépositaires. \nLe bingo de CHGA\, tous les dimanches à 16 h 30! \nLes gagnants cette semaine :\nLettre L\n\nMélanie Dubois Bélisle de Ste-Cécile-de-Masham – 500$ – Carte achetée au Marché du Progrès de Gatineau\n\nLettres ING\n\nLise Charbonneau de Otter Lake – 500$ – Carte achetée au Marché Kaz de Kazabazua\n\nCarte pleine\n\nColette Brisebois de Mont-Laurier – 1 500$ – Carte achetée au Dépanneur Jules Bonisoir de Mont-Laurier\n\nConsolation\n\nFrancine Côté de Prévost – 75$ – Carte achetée à La Pointe à David de Grand-Remous\nMadelaine Fortin de Blue Sea – 75$ – Carte achetée au Marché Omni Richard de Blue Sea\nDamien Rochon de Point Comfort – 75$ – Carte achetée au Dépanneur des Lacs de Gracefield\nMicheline Piché de Mont-Laurier – 75$ – Carte achetée au Dépanneur Dinelle de Mont-Laurier
URL:https://www.chga.fm/evenement/bingo-chga-regulier-46/
LOCATION:QC\, Canada
CATEGORIES:Bingo CHGA
END:VEVENT
END:VCALENDAR