BEGIN:VCALENDAR
VERSION:2.0
PRODID:-//CHGA - ECPv6.15.20//NONSGML v1.0//EN
CALSCALE:GREGORIAN
METHOD:PUBLISH
X-WR-CALNAME:CHGA
X-ORIGINAL-URL:https://www.chga.fm
X-WR-CALDESC:évènements pour CHGA
REFRESH-INTERVAL;VALUE=DURATION:PT1H
X-Robots-Tag:noindex
X-PUBLISHED-TTL:PT1H
BEGIN:VTIMEZONE
TZID:America/Toronto
BEGIN:DAYLIGHT
TZOFFSETFROM:-0500
TZOFFSETTO:-0400
TZNAME:EDT
DTSTART:20210314T070000
END:DAYLIGHT
BEGIN:STANDARD
TZOFFSETFROM:-0400
TZOFFSETTO:-0500
TZNAME:EST
DTSTART:20211107T060000
END:STANDARD
BEGIN:DAYLIGHT
TZOFFSETFROM:-0500
TZOFFSETTO:-0400
TZNAME:EDT
DTSTART:20220313T070000
END:DAYLIGHT
BEGIN:STANDARD
TZOFFSETFROM:-0400
TZOFFSETTO:-0500
TZNAME:EST
DTSTART:20221106T060000
END:STANDARD
BEGIN:DAYLIGHT
TZOFFSETFROM:-0500
TZOFFSETTO:-0400
TZNAME:EDT
DTSTART:20230312T070000
END:DAYLIGHT
BEGIN:STANDARD
TZOFFSETFROM:-0400
TZOFFSETTO:-0500
TZNAME:EST
DTSTART:20231105T060000
END:STANDARD
END:VTIMEZONE
BEGIN:VEVENT
DTSTART;TZID=America/Toronto:20220710T163000
DTEND;TZID=America/Toronto:20220710T173000
DTSTAMP:20260421T014737
CREATED:20211214T164119Z
LAST-MODIFIED:20220713T195230Z
UID:393344-1657470600-1657474200@www.chga.fm
SUMMARY:Bingo CHGA régulier
DESCRIPTION:Le bingo de ce dimanche en est un spécial avec un total de 2800$ à gagner. Il se jouera sur des cartes bleues à 5$\, disponibles chez les différents dépositaires. \nLe bingo de CHGA\, tous les dimanches à 16 h 30! \nLes gagnants cette semaine :\nLettre L\n\nDaniel Frenette de Gatineau – 45\,46$ – Carte achetée à l’Épicerie Mulligan de Cayamant\nDan Villeneuve de Cayamant – 45\,46$ – Carte achetée à l’Épicerie Mulligan de Cayamant\nLynn Guilbault de Masham – 45\,46$ – Carte achetée chez Le Petit magasin Général de EastAllField\nTammy Gibeau de Gracefield – 45\,46$ – Carte achetée au Marché Métro Kelly de Gracefield\nNancy Lessard de Ste-Thérèse-de-la-Gatineau – 45\,46$ – Carte achetée au Dépanneur 4 Fourches de Déléage\nVanessa L’Heureux-Piché de Mont-Laurier – 45\,45$ – Carte achetée au Dépanneur Jules Bonisoir de Mont-Laurier\nRaymond Noël de Gatineau – 45\,45$ – Carte achetée au Marché du Progrès de Gatineau\nSarah Murphy de Wakefield – 45\,45$ – Carte achetée à la Boucherie M.S. de Masham\nJoanne Cadieux de Gatineau – 45\,45$ – Carte achetée au Dépanneur D. Wolf de Gatineau\nNadine Blais de Pointe-Confort – 45\,45$ – Carte achetée au Dépanneur des lacs de Pointe-Confort\nNathalie Lépine de Mont-Laurier – 45\,45$ – Carte achetée au Dépanneur Jules Bonisoir de Mont-Laurier\n\nLettres ING\n\nSylvie Carrière de Ste-Thérèse-de-la-Gatineau – 250$ – Carte achetée à l’Épicerie GHT de Maniwaki\nJanyka Vaudrin de Gatineau – 250$ – Carte achetée au Marché du Progrès de Gatineau\n\nCarte pleine\n\nDaniel Lacelle de Mont-Laurier – 1 500$ – Carte achetée au Dépanneur Dinel de Mont-Laurier\n\nConsolation\n\nFélicia Gabie de Messines – 300$ – Carte achetée au Dépanneur Gorley de Messines
URL:https://www.chga.fm/evenement/bingo-chga-regulier-39/
LOCATION:QC\, Canada
CATEGORIES:Bingo CHGA
END:VEVENT
END:VCALENDAR