BEGIN:VCALENDAR
VERSION:2.0
PRODID:-//CHGA - ECPv6.15.20//NONSGML v1.0//EN
CALSCALE:GREGORIAN
METHOD:PUBLISH
X-WR-CALNAME:CHGA
X-ORIGINAL-URL:https://www.chga.fm
X-WR-CALDESC:évènements pour CHGA
REFRESH-INTERVAL;VALUE=DURATION:PT1H
X-Robots-Tag:noindex
X-PUBLISHED-TTL:PT1H
BEGIN:VTIMEZONE
TZID:America/Toronto
BEGIN:DAYLIGHT
TZOFFSETFROM:-0500
TZOFFSETTO:-0400
TZNAME:EDT
DTSTART:20210314T070000
END:DAYLIGHT
BEGIN:STANDARD
TZOFFSETFROM:-0400
TZOFFSETTO:-0500
TZNAME:EST
DTSTART:20211107T060000
END:STANDARD
BEGIN:DAYLIGHT
TZOFFSETFROM:-0500
TZOFFSETTO:-0400
TZNAME:EDT
DTSTART:20220313T070000
END:DAYLIGHT
BEGIN:STANDARD
TZOFFSETFROM:-0400
TZOFFSETTO:-0500
TZNAME:EST
DTSTART:20221106T060000
END:STANDARD
BEGIN:DAYLIGHT
TZOFFSETFROM:-0500
TZOFFSETTO:-0400
TZNAME:EDT
DTSTART:20230312T070000
END:DAYLIGHT
BEGIN:STANDARD
TZOFFSETFROM:-0400
TZOFFSETTO:-0500
TZNAME:EST
DTSTART:20231105T060000
END:STANDARD
END:VTIMEZONE
BEGIN:VEVENT
DTSTART;TZID=America/Toronto:20220612T163000
DTEND;TZID=America/Toronto:20220612T173000
DTSTAMP:20260421T051902
CREATED:20211214T163945Z
LAST-MODIFIED:20220613T195657Z
UID:393342-1655051400-1655055000@www.chga.fm
SUMMARY:Bingo CHGA régulier
DESCRIPTION:Le bingo de ce dimanche en est un spécial avec un total de 2800$ à gagner. Il se jouera sur des cartes bleues à 5$\, disponibles chez les différents dépositaires. \nLe bingo de CHGA\, tous les dimanches à 16 h 30! \nLes gagnants cette semaine :\nLettre L\n\nJulien Benoit de Cayamant – 500$ – Carte achetée à l’Épicerie Muligan de Cayamant\n\nLettres ING\n\nInes Lefebvre de Maniwaki – 500$ – Carte achetée au Dépanneur GHT de Maniwaki\n\nCarte pleine\n\nMireille Forget de Kiamika – 750$ – Carte achetée au Garage Martin Léonard de Lac du Cerf\nJanick Wagner de St-Jean sur le Lac – 750$ – Carte achetée au Dépanneur Dinelle de Mont-Laurier\n\nConsolation\n\nMélanie Marcil Beaudoin de Val-Des-Monts – 150$ – Carte achetée au Dépanneur de la Montée de Cantley\nAlain Roussel de Gatineau – 150$ – Carte achetée à l’Épicerie Breannan’s Hill
URL:https://www.chga.fm/evenement/bingo-chga-regulier-37/
LOCATION:QC\, Canada
CATEGORIES:Bingo CHGA
END:VEVENT
END:VCALENDAR