BEGIN:VCALENDAR
VERSION:2.0
PRODID:-//CHGA - ECPv6.15.20//NONSGML v1.0//EN
CALSCALE:GREGORIAN
METHOD:PUBLISH
X-WR-CALNAME:CHGA
X-ORIGINAL-URL:https://www.chga.fm
X-WR-CALDESC:évènements pour CHGA
REFRESH-INTERVAL;VALUE=DURATION:PT1H
X-Robots-Tag:noindex
X-PUBLISHED-TTL:PT1H
BEGIN:VTIMEZONE
TZID:America/Toronto
BEGIN:DAYLIGHT
TZOFFSETFROM:-0500
TZOFFSETTO:-0400
TZNAME:EDT
DTSTART:20210314T070000
END:DAYLIGHT
BEGIN:STANDARD
TZOFFSETFROM:-0400
TZOFFSETTO:-0500
TZNAME:EST
DTSTART:20211107T060000
END:STANDARD
BEGIN:DAYLIGHT
TZOFFSETFROM:-0500
TZOFFSETTO:-0400
TZNAME:EDT
DTSTART:20220313T070000
END:DAYLIGHT
BEGIN:STANDARD
TZOFFSETFROM:-0400
TZOFFSETTO:-0500
TZNAME:EST
DTSTART:20221106T060000
END:STANDARD
BEGIN:DAYLIGHT
TZOFFSETFROM:-0500
TZOFFSETTO:-0400
TZNAME:EDT
DTSTART:20230312T070000
END:DAYLIGHT
BEGIN:STANDARD
TZOFFSETFROM:-0400
TZOFFSETTO:-0500
TZNAME:EST
DTSTART:20231105T060000
END:STANDARD
END:VTIMEZONE
BEGIN:VEVENT
DTSTART;TZID=America/Toronto:20220130T163000
DTEND;TZID=America/Toronto:20220130T173000
DTSTAMP:20260421T110904
CREATED:20211214T163508Z
LAST-MODIFIED:20220204T193149Z
UID:393336-1643560200-1643563800@www.chga.fm
SUMMARY:Bingo CHGA régulier
DESCRIPTION:Le bingo de ce dimanche en est un spécial avec un total de 2800$ à gagner. Il se jouera sur des cartes bleues à 5$\, disponibles chez les différents dépositaires. \nLe bingo de CHGA\, tous les dimanches à 16 h 30! \nLes gagnants cette semaine :\nLettre L\n\nJohanne Carrière de Notre-Dame-de-la-Salette – 500$ – Carte achetée au Dépanneur chez Dan de Notre-Dame-de-la-salette\n\nLettres ING\n\nFernande pelletier de Déléage – 250$ – Carte achetée à l’Épicerie Réjean Grondin\nJaquelin Ouellette de Lac St-Paul – 250$ – Carte achetée au Dépanneur 4 Saisions de Ferme-Neuve\n\nCarte pleine\n\nJaquelin Ouellette de Lac St-Paul – 1 500$ – Carte achetée au Dépanneur 4 Saisions de Ferme-Neuve\n\nConsolation\n\nDenise Morin de Maniwaki – 300$ – Carte achetée à l’Épicerie G.H.T de Maniwaki
URL:https://www.chga.fm/evenement/bingo-chga-regulier-31/
LOCATION:QC\, Canada
CATEGORIES:Bingo CHGA
END:VEVENT
END:VCALENDAR