BEGIN:VCALENDAR
VERSION:2.0
PRODID:-//CHGA - ECPv6.15.20//NONSGML v1.0//EN
CALSCALE:GREGORIAN
METHOD:PUBLISH
X-WR-CALNAME:CHGA
X-ORIGINAL-URL:https://www.chga.fm
X-WR-CALDESC:évènements pour CHGA
REFRESH-INTERVAL;VALUE=DURATION:PT1H
X-Robots-Tag:noindex
X-PUBLISHED-TTL:PT1H
BEGIN:VTIMEZONE
TZID:America/Toronto
BEGIN:DAYLIGHT
TZOFFSETFROM:-0500
TZOFFSETTO:-0400
TZNAME:EDT
DTSTART:20200308T070000
END:DAYLIGHT
BEGIN:STANDARD
TZOFFSETFROM:-0400
TZOFFSETTO:-0500
TZNAME:EST
DTSTART:20201101T060000
END:STANDARD
BEGIN:DAYLIGHT
TZOFFSETFROM:-0500
TZOFFSETTO:-0400
TZNAME:EDT
DTSTART:20210314T070000
END:DAYLIGHT
BEGIN:STANDARD
TZOFFSETFROM:-0400
TZOFFSETTO:-0500
TZNAME:EST
DTSTART:20211107T060000
END:STANDARD
BEGIN:DAYLIGHT
TZOFFSETFROM:-0500
TZOFFSETTO:-0400
TZNAME:EDT
DTSTART:20220313T070000
END:DAYLIGHT
BEGIN:STANDARD
TZOFFSETFROM:-0400
TZOFFSETTO:-0500
TZNAME:EST
DTSTART:20221106T060000
END:STANDARD
END:VTIMEZONE
BEGIN:VEVENT
DTSTART;TZID=America/Toronto:20211226T163000
DTEND;TZID=America/Toronto:20211226T173000
DTSTAMP:20260421T123325
CREATED:20201110T154329Z
LAST-MODIFIED:20211230T150842Z
UID:372346-1640536200-1640539800@www.chga.fm
SUMMARY:Bingo CHGA régulier
DESCRIPTION:Le bingo de ce dimanche en est un spécial avec un total de 2800$ à gagner. Il se jouera sur des cartes bleues à 5$\, disponibles chez les différents dépositaires. \nLe bingo de CHGA\, tous les dimanches à 16 h 30! \nLes gagnants cette semaine :\nLettre L\n\nFrance Cyr de Maniwaki – 500$ – Carte achetée à l’Épicerie Masham de Masham\n\nLettres ING\n\nLaurence Mathieu de Maniwaki – 250$ – Carte achetée à l’Épicerie G.H.T. de Maniwaki\nLouise Richard de Messines – 250$ – Carte achetée à l’Épicerie Val-Guertin de Messines\n\nCarte pleine\n\nDaniel Lacelle de Mont-Laurier – 1 500$ – Carte achetée au Dépanneur Jules Bonisoir de Mont-Laurier\n\nConsolation\n\nFrancine Guay de Gatineau – 150$ – Carte achetée au Marché du Progrès de Gatineau\nVicky Dubois de La pêche – 150$ – Carte achetée chez Le P’tit Magasin Général de East-Ald Field
URL:https://www.chga.fm/evenement/bingo-chga-regulier-25/
LOCATION:QC\, Canada
CATEGORIES:Bingo CHGA
END:VEVENT
END:VCALENDAR