BEGIN:VCALENDAR
VERSION:2.0
PRODID:-//CHGA - ECPv6.15.20//NONSGML v1.0//EN
CALSCALE:GREGORIAN
METHOD:PUBLISH
X-WR-CALNAME:CHGA
X-ORIGINAL-URL:https://www.chga.fm
X-WR-CALDESC:évènements pour CHGA
REFRESH-INTERVAL;VALUE=DURATION:PT1H
X-Robots-Tag:noindex
X-PUBLISHED-TTL:PT1H
BEGIN:VTIMEZONE
TZID:America/Toronto
BEGIN:DAYLIGHT
TZOFFSETFROM:-0500
TZOFFSETTO:-0400
TZNAME:EDT
DTSTART:20200308T070000
END:DAYLIGHT
BEGIN:STANDARD
TZOFFSETFROM:-0400
TZOFFSETTO:-0500
TZNAME:EST
DTSTART:20201101T060000
END:STANDARD
BEGIN:DAYLIGHT
TZOFFSETFROM:-0500
TZOFFSETTO:-0400
TZNAME:EDT
DTSTART:20210314T070000
END:DAYLIGHT
BEGIN:STANDARD
TZOFFSETFROM:-0400
TZOFFSETTO:-0500
TZNAME:EST
DTSTART:20211107T060000
END:STANDARD
BEGIN:DAYLIGHT
TZOFFSETFROM:-0500
TZOFFSETTO:-0400
TZNAME:EDT
DTSTART:20220313T070000
END:DAYLIGHT
BEGIN:STANDARD
TZOFFSETFROM:-0400
TZOFFSETTO:-0500
TZNAME:EST
DTSTART:20221106T060000
END:STANDARD
END:VTIMEZONE
BEGIN:VEVENT
DTSTART;TZID=America/Toronto:20211010T163000
DTEND;TZID=America/Toronto:20211010T173000
DTSTAMP:20260421T165732
CREATED:20201110T152257Z
LAST-MODIFIED:20211022T130110Z
UID:372317-1633883400-1633887000@www.chga.fm
SUMMARY:Bingo CHGA régulier
DESCRIPTION:Le bingo de ce dimanche en est un spécial avec un total de 2800$ à gagner. Il se jouera sur des cartes bleues à 5$\, disponibles chez les différents dépositaires. \nLe bingo de CHGA\, tous les dimanches à 16 h 30! \nLes gagnants cette semaine :\nLettre L\n\nSandra Buckshot de Maniwaki – 500$ – Carte achetée à la Tabagie étoile de Kitigan Zibi\n\nLettres ING\n\nGaétan Legros de Masham – 250$ – Carte achetée à l’Épicerie Masham de Masham\nJoanne Lauzon de Gatineau – 250$ – Carte achetée au Marché du progrès de Gatineau\n\nCarte pleine\n\nFrançois Côté de Prévost – 750$ – Carte achetée à La pointe à David de Grand-Remous\nFrancine Laroche de Notre-Dame-de-Pontmain – 750$ – Carte achetée au Dépanneur du village de Val-des-Bois\n\nConsolation\n\nJulie Gendron de Maniwaki – 300$ – Carte achetée à L’Épicerie Réjean Grondin de Maniwaki
URL:https://www.chga.fm/evenement/bingo-chga-regulier-24/
LOCATION:QC\, Canada
CATEGORIES:Bingo CHGA
END:VEVENT
END:VCALENDAR