BEGIN:VCALENDAR
VERSION:2.0
PRODID:-//CHGA - ECPv6.15.20//NONSGML v1.0//EN
CALSCALE:GREGORIAN
METHOD:PUBLISH
X-WR-CALNAME:CHGA
X-ORIGINAL-URL:https://www.chga.fm
X-WR-CALDESC:évènements pour CHGA
REFRESH-INTERVAL;VALUE=DURATION:PT1H
X-Robots-Tag:noindex
X-PUBLISHED-TTL:PT1H
BEGIN:VTIMEZONE
TZID:America/Toronto
BEGIN:DAYLIGHT
TZOFFSETFROM:-0500
TZOFFSETTO:-0400
TZNAME:EDT
DTSTART:20220313T070000
END:DAYLIGHT
BEGIN:STANDARD
TZOFFSETFROM:-0400
TZOFFSETTO:-0500
TZNAME:EST
DTSTART:20221106T060000
END:STANDARD
BEGIN:DAYLIGHT
TZOFFSETFROM:-0500
TZOFFSETTO:-0400
TZNAME:EDT
DTSTART:20230312T070000
END:DAYLIGHT
BEGIN:STANDARD
TZOFFSETFROM:-0400
TZOFFSETTO:-0500
TZNAME:EST
DTSTART:20231105T060000
END:STANDARD
BEGIN:DAYLIGHT
TZOFFSETFROM:-0500
TZOFFSETTO:-0400
TZNAME:EDT
DTSTART:20240310T070000
END:DAYLIGHT
BEGIN:STANDARD
TZOFFSETFROM:-0400
TZOFFSETTO:-0500
TZNAME:EST
DTSTART:20241103T060000
END:STANDARD
END:VTIMEZONE
BEGIN:VEVENT
DTSTART;TZID=America/Toronto:20230701T080000
DTEND;TZID=America/Toronto:20230701T160000
DTSTAMP:20260420T071811
CREATED:20220524T131801Z
LAST-MODIFIED:20230516T182058Z
UID:402710-1688198400-1688227200@www.chga.fm
SUMMARY:Bazar de l'Église St-Roch de Cayamant
DESCRIPTION:La Paroisse St-Roch de Cayamant organise un bazar le samedi 01 juillet 2023 de 8h à 14h au sous-sol de l’Église St-Roch de Cayamant. \nCeci inclus des ventes d’articles pour la maison\, ventes de pâtisseries maison\, diner hot-dog et plus encore. \nPour informations: Cécile Major 819 463-2726
URL:https://www.chga.fm/evenement/bazar-de-leglise-st-roch-de-cayamant/
LOCATION:Église St-Roch\, 36\, rue Principale\, Lac-Cayamant\, QC\, J0X 1Y0\, Canada
END:VEVENT
END:VCALENDAR