BEGIN:VCALENDAR
VERSION:2.0
PRODID:-//CHGA - ECPv6.15.20//NONSGML v1.0//EN
CALSCALE:GREGORIAN
METHOD:PUBLISH
X-WR-CALNAME:CHGA
X-ORIGINAL-URL:https://www.chga.fm
X-WR-CALDESC:évènements pour CHGA
REFRESH-INTERVAL;VALUE=DURATION:PT1H
X-Robots-Tag:noindex
X-PUBLISHED-TTL:PT1H
BEGIN:VTIMEZONE
TZID:America/Toronto
BEGIN:DAYLIGHT
TZOFFSETFROM:-0500
TZOFFSETTO:-0400
TZNAME:EDT
DTSTART:20220313T070000
END:DAYLIGHT
BEGIN:STANDARD
TZOFFSETFROM:-0400
TZOFFSETTO:-0500
TZNAME:EST
DTSTART:20221106T060000
END:STANDARD
BEGIN:DAYLIGHT
TZOFFSETFROM:-0500
TZOFFSETTO:-0400
TZNAME:EDT
DTSTART:20230312T070000
END:DAYLIGHT
BEGIN:STANDARD
TZOFFSETFROM:-0400
TZOFFSETTO:-0500
TZNAME:EST
DTSTART:20231105T060000
END:STANDARD
BEGIN:DAYLIGHT
TZOFFSETFROM:-0500
TZOFFSETTO:-0400
TZNAME:EDT
DTSTART:20240310T070000
END:DAYLIGHT
BEGIN:STANDARD
TZOFFSETFROM:-0400
TZOFFSETTO:-0500
TZNAME:EST
DTSTART:20241103T060000
END:STANDARD
END:VTIMEZONE
BEGIN:VEVENT
DTSTART;TZID=America/Toronto:20230120T080000
DTEND;TZID=America/Toronto:20230120T170000
DTSTAMP:20260420T160442
CREATED:20230105T141928Z
LAST-MODIFIED:20230110T205137Z
UID:415755-1674201600-1674234000@www.chga.fm
SUMMARY:Atelier d'information sur l'impôt fédéral et Service Canada - Voix et solidarité
DESCRIPTION:Voix et Solidarité aux aidants naturels de La Vallée-de-la-Gatineau vous invite à un atelier d’information sur l’impôts fédéral avec l’agence Canada et Service Canada aura lieu le 20 janvier prochain. L’événement se déroulera au 248\, rue Cartier à Maniwaki. \nVoici quelque sujet qui seront aborder: \n– Principaux types de revenus pour les aînés \n– Impôt de récupération de la PSV \n– Fractionnement du revenu de pension
URL:https://www.chga.fm/evenement/atelier-dinformation-sur-limpot-federal-et-service-canada-voix-et-solidarite/
LOCATION:248\, rue Cartier\, Maniwaki\, 248 rue Cartier\, Maniwaki\, QC\, J9E3P5\, Canada
END:VEVENT
END:VCALENDAR