BEGIN:VCALENDAR
VERSION:2.0
PRODID:-//CHGA - ECPv6.15.20//NONSGML v1.0//EN
CALSCALE:GREGORIAN
METHOD:PUBLISH
X-WR-CALNAME:CHGA
X-ORIGINAL-URL:https://www.chga.fm
X-WR-CALDESC:évènements pour CHGA
REFRESH-INTERVAL;VALUE=DURATION:PT1H
X-Robots-Tag:noindex
X-PUBLISHED-TTL:PT1H
BEGIN:VTIMEZONE
TZID:America/Toronto
BEGIN:DAYLIGHT
TZOFFSETFROM:-0500
TZOFFSETTO:-0400
TZNAME:EDT
DTSTART:20210314T070000
END:DAYLIGHT
BEGIN:STANDARD
TZOFFSETFROM:-0400
TZOFFSETTO:-0500
TZNAME:EST
DTSTART:20211107T060000
END:STANDARD
BEGIN:DAYLIGHT
TZOFFSETFROM:-0500
TZOFFSETTO:-0400
TZNAME:EDT
DTSTART:20220313T070000
END:DAYLIGHT
BEGIN:STANDARD
TZOFFSETFROM:-0400
TZOFFSETTO:-0500
TZNAME:EST
DTSTART:20221106T060000
END:STANDARD
BEGIN:DAYLIGHT
TZOFFSETFROM:-0500
TZOFFSETTO:-0400
TZNAME:EDT
DTSTART:20230312T070000
END:DAYLIGHT
BEGIN:STANDARD
TZOFFSETFROM:-0400
TZOFFSETTO:-0500
TZNAME:EST
DTSTART:20231105T060000
END:STANDARD
END:VTIMEZONE
BEGIN:VEVENT
DTSTART;TZID=America/Toronto:20220511T133000
DTEND;TZID=America/Toronto:20220511T133000
DTSTAMP:20260421T064947
CREATED:20220429T150645Z
LAST-MODIFIED:20220429T150645Z
UID:400986-1652275800-1652275800@www.chga.fm
SUMMARY:Atelier de croissance personnelle
DESCRIPTION:Voix et solidarité en collaboration avec Cap Santé Outaouais vous invite le mercredi 11 mai à 13h30 pour l’atelier de croissance personnelle. Les objectifs de cet atelier sont de valoriser le développement de l’autonomie comme élément essentiel du bien-être\, découvrir des moyens de mettre en pratique l’astuce CHOISIR.  C’est ouvert à tous\, mais seulement 16 places sont disponibles\, donc pour réserver votre place ou pour plus d’informations\, téléphonez au 819 441-1001 ou 1-855-448-1818.
URL:https://www.chga.fm/evenement/atelier-de-croissance-personnelle/
LOCATION:248\, rue Cartier\, Maniwaki\, 248 rue Cartier\, Maniwaki\, QC\, J9E3P5\, Canada
END:VEVENT
END:VCALENDAR