BEGIN:VCALENDAR
VERSION:2.0
PRODID:-//CHGA - ECPv6.15.20//NONSGML v1.0//EN
CALSCALE:GREGORIAN
METHOD:PUBLISH
X-WR-CALNAME:CHGA
X-ORIGINAL-URL:https://www.chga.fm
X-WR-CALDESC:évènements pour CHGA
REFRESH-INTERVAL;VALUE=DURATION:PT1H
X-Robots-Tag:noindex
X-PUBLISHED-TTL:PT1H
BEGIN:VTIMEZONE
TZID:America/Toronto
BEGIN:DAYLIGHT
TZOFFSETFROM:-0500
TZOFFSETTO:-0400
TZNAME:EDT
DTSTART:20210314T070000
END:DAYLIGHT
BEGIN:STANDARD
TZOFFSETFROM:-0400
TZOFFSETTO:-0500
TZNAME:EST
DTSTART:20211107T060000
END:STANDARD
BEGIN:DAYLIGHT
TZOFFSETFROM:-0500
TZOFFSETTO:-0400
TZNAME:EDT
DTSTART:20220313T070000
END:DAYLIGHT
BEGIN:STANDARD
TZOFFSETFROM:-0400
TZOFFSETTO:-0500
TZNAME:EST
DTSTART:20221106T060000
END:STANDARD
BEGIN:DAYLIGHT
TZOFFSETFROM:-0500
TZOFFSETTO:-0400
TZNAME:EDT
DTSTART:20230312T070000
END:DAYLIGHT
BEGIN:STANDARD
TZOFFSETFROM:-0400
TZOFFSETTO:-0500
TZNAME:EST
DTSTART:20231105T060000
END:STANDARD
END:VTIMEZONE
BEGIN:VEVENT
DTSTART;TZID=America/Toronto:20221116T133000
DTEND;TZID=America/Toronto:20221116T153000
DTSTAMP:20260420T205319
CREATED:20221004T123246Z
LAST-MODIFIED:20221004T123246Z
UID:410600-1668605400-1668612600@www.chga.fm
SUMMARY:Atelier apprendre à recharger ses batteries et éteindre ses signaux d’alerte
DESCRIPTION:L’Association de la fibromyalgie des Laurentides vous invite à l’atelier\, apprendre à recharger ses batteries et éteindre ses signaux d’alerte\, le mercredi 16 novembre 2022 de 13h30 à 15h30 à l’Espace Théâtre\, salle panoramique situé au 543\, rue du Pont à Mont-Laurier.
URL:https://www.chga.fm/evenement/atelier-apprendre-a-recharger-ses-batteries-et-eteindre-ses-signaux-dalerte/
LOCATION:QC\, Canada
END:VEVENT
END:VCALENDAR