BEGIN:VCALENDAR
VERSION:2.0
PRODID:-//CHGA - ECPv6.15.20//NONSGML v1.0//EN
CALSCALE:GREGORIAN
METHOD:PUBLISH
X-WR-CALNAME:CHGA
X-ORIGINAL-URL:https://www.chga.fm
X-WR-CALDESC:évènements pour CHGA
REFRESH-INTERVAL;VALUE=DURATION:PT1H
X-Robots-Tag:noindex
X-PUBLISHED-TTL:PT1H
BEGIN:VTIMEZONE
TZID:America/Toronto
BEGIN:DAYLIGHT
TZOFFSETFROM:-0500
TZOFFSETTO:-0400
TZNAME:EDT
DTSTART:20200308T070000
END:DAYLIGHT
BEGIN:STANDARD
TZOFFSETFROM:-0400
TZOFFSETTO:-0500
TZNAME:EST
DTSTART:20201101T060000
END:STANDARD
BEGIN:DAYLIGHT
TZOFFSETFROM:-0500
TZOFFSETTO:-0400
TZNAME:EDT
DTSTART:20210314T070000
END:DAYLIGHT
BEGIN:STANDARD
TZOFFSETFROM:-0400
TZOFFSETTO:-0500
TZNAME:EST
DTSTART:20211107T060000
END:STANDARD
BEGIN:DAYLIGHT
TZOFFSETFROM:-0500
TZOFFSETTO:-0400
TZNAME:EDT
DTSTART:20220313T070000
END:DAYLIGHT
BEGIN:STANDARD
TZOFFSETFROM:-0400
TZOFFSETTO:-0500
TZNAME:EST
DTSTART:20221106T060000
END:STANDARD
END:VTIMEZONE
BEGIN:VEVENT
DTSTART;VALUE=DATE:20210717
DTEND;VALUE=DATE:20210719
DTSTAMP:20260421T214141
CREATED:20210712T200004Z
LAST-MODIFIED:20210712T200004Z
UID:384138-1626480000-1626652799@www.chga.fm
SUMMARY:Association du bassin versant - Retrait des sacs de gravier
DESCRIPTION:L’Association du bassin versant du lac Blue Sea procédera à la deuxième séance du retrait des sacs de gravier avec les plongeurs du Club Scuba-Action. \nSamedi\, le 17 juillet\, les plongeurs seront à l’œuvre au large du quai public de Messines. Les plongeurs poursuivront leurs travaux dimanche\, le 18 juillet\, dans les zones du quai public de Blue Sea et à la marina de Raymond Lacroix. Des bouées de signalisation seront installées afin d’indiquer leur présence. \nEn conséquence\, l’Association demande à tous les plaisanciers circulant sur les eaux du lac pendant l’opération d’éviter la zone des travaux afin d’assurer la sécurité des équipes à l’œuvre. Un périmètre d’au moins 150 mètres et une vitesse réduite au minimum seront de mise. \nL’Association remercie tous les bénévoles impliqués et apprécie à l’avance la collaboration des plaisanciers du lac Blue Sea.
URL:https://www.chga.fm/evenement/association-du-bassin-versant-retrait-des-sacs-de-gravier/
LOCATION:QC\, Canada
END:VEVENT
END:VCALENDAR