BEGIN:VCALENDAR
VERSION:2.0
PRODID:-//CHGA - ECPv6.15.20//NONSGML v1.0//EN
CALSCALE:GREGORIAN
METHOD:PUBLISH
X-WR-CALNAME:CHGA
X-ORIGINAL-URL:https://www.chga.fm
X-WR-CALDESC:évènements pour CHGA
REFRESH-INTERVAL;VALUE=DURATION:PT1H
X-Robots-Tag:noindex
X-PUBLISHED-TTL:PT1H
BEGIN:VTIMEZONE
TZID:America/Toronto
BEGIN:DAYLIGHT
TZOFFSETFROM:-0500
TZOFFSETTO:-0400
TZNAME:EDT
DTSTART:20200308T070000
END:DAYLIGHT
BEGIN:STANDARD
TZOFFSETFROM:-0400
TZOFFSETTO:-0500
TZNAME:EST
DTSTART:20201101T060000
END:STANDARD
BEGIN:DAYLIGHT
TZOFFSETFROM:-0500
TZOFFSETTO:-0400
TZNAME:EDT
DTSTART:20210314T070000
END:DAYLIGHT
BEGIN:STANDARD
TZOFFSETFROM:-0400
TZOFFSETTO:-0500
TZNAME:EST
DTSTART:20211107T060000
END:STANDARD
BEGIN:DAYLIGHT
TZOFFSETFROM:-0500
TZOFFSETTO:-0400
TZNAME:EDT
DTSTART:20220313T070000
END:DAYLIGHT
BEGIN:STANDARD
TZOFFSETFROM:-0400
TZOFFSETTO:-0500
TZNAME:EST
DTSTART:20221106T060000
END:STANDARD
END:VTIMEZONE
BEGIN:VEVENT
DTSTART;TZID=America/Toronto:20210929T130000
DTEND;TZID=America/Toronto:20210929T160000
DTSTAMP:20260421T182353
CREATED:20210921T134402Z
LAST-MODIFIED:20210921T134527Z
UID:388712-1632920400-1632931200@www.chga.fm
SUMMARY:Assemblée générale Fadoq de Bouchette
DESCRIPTION:Le club FADOQ\, les Bons Vivants de Bouchette \, tiendra son assemblée générale annuelle suivi des élections\, le mercredi 29 septembre à 13h00 à l’église de Bouchette. \nBienvenue à tous les membres. \nPour informations: Suzanne Poirier : 819-465-2573
URL:https://www.chga.fm/evenement/assemblee-generale-fadoq-de-bouchette/
LOCATION:ég;ise de Bouchette\, QC\, Canada
END:VEVENT
END:VCALENDAR