BEGIN:VCALENDAR
VERSION:2.0
PRODID:-//CHGA - ECPv6.15.20//NONSGML v1.0//EN
CALSCALE:GREGORIAN
METHOD:PUBLISH
X-WR-CALNAME:CHGA
X-ORIGINAL-URL:https://www.chga.fm
X-WR-CALDESC:évènements pour CHGA
REFRESH-INTERVAL;VALUE=DURATION:PT1H
X-Robots-Tag:noindex
X-PUBLISHED-TTL:PT1H
BEGIN:VTIMEZONE
TZID:America/Toronto
BEGIN:DAYLIGHT
TZOFFSETFROM:-0500
TZOFFSETTO:-0400
TZNAME:EDT
DTSTART:20210314T070000
END:DAYLIGHT
BEGIN:STANDARD
TZOFFSETFROM:-0400
TZOFFSETTO:-0500
TZNAME:EST
DTSTART:20211107T060000
END:STANDARD
BEGIN:DAYLIGHT
TZOFFSETFROM:-0500
TZOFFSETTO:-0400
TZNAME:EDT
DTSTART:20220313T070000
END:DAYLIGHT
BEGIN:STANDARD
TZOFFSETFROM:-0400
TZOFFSETTO:-0500
TZNAME:EST
DTSTART:20221106T060000
END:STANDARD
BEGIN:DAYLIGHT
TZOFFSETFROM:-0500
TZOFFSETTO:-0400
TZNAME:EDT
DTSTART:20230312T070000
END:DAYLIGHT
BEGIN:STANDARD
TZOFFSETFROM:-0400
TZOFFSETTO:-0500
TZNAME:EST
DTSTART:20231105T060000
END:STANDARD
END:VTIMEZONE
BEGIN:VEVENT
DTSTART;TZID=America/Toronto:20220616T170000
DTEND;TZID=America/Toronto:20220616T170000
DTSTAMP:20260421T033413
CREATED:20220602T151723Z
LAST-MODIFIED:20220602T151835Z
UID:403534-1655398800-1655398800@www.chga.fm
SUMMARY:Assemblé annuelle Asec de la Vallée de la Gatineau
DESCRIPTION:L’Asec de la Vallée de la Gatineau vous invite à leur assemblée générale qui aura lieu le jeudi 16 juin 2022 à 17h à l’édifice Le Chemin au 248\, rue Champlain à Maniwaki. Sur place il y aura du café et un goûter gratuit. \nPour plus d’informations\, téléphonez Maude Lafrenière au 819 449-6779
URL:https://www.chga.fm/evenement/assemble-annuelle-asec-de-la-vallee-de-la-gatineau/
LOCATION:QC\, Canada
END:VEVENT
END:VCALENDAR