BEGIN:VCALENDAR
VERSION:2.0
PRODID:-//CHGA - ECPv6.15.20//NONSGML v1.0//EN
CALSCALE:GREGORIAN
METHOD:PUBLISH
X-WR-CALNAME:CHGA
X-ORIGINAL-URL:https://www.chga.fm
X-WR-CALDESC:évènements pour CHGA
REFRESH-INTERVAL;VALUE=DURATION:PT1H
X-Robots-Tag:noindex
X-PUBLISHED-TTL:PT1H
BEGIN:VTIMEZONE
TZID:America/Toronto
BEGIN:DAYLIGHT
TZOFFSETFROM:-0500
TZOFFSETTO:-0400
TZNAME:EDT
DTSTART:20250309T070000
END:DAYLIGHT
BEGIN:STANDARD
TZOFFSETFROM:-0400
TZOFFSETTO:-0500
TZNAME:EST
DTSTART:20251102T060000
END:STANDARD
BEGIN:DAYLIGHT
TZOFFSETFROM:-0500
TZOFFSETTO:-0400
TZNAME:EDT
DTSTART:20260308T070000
END:DAYLIGHT
BEGIN:STANDARD
TZOFFSETFROM:-0400
TZOFFSETTO:-0500
TZNAME:EST
DTSTART:20261101T060000
END:STANDARD
BEGIN:DAYLIGHT
TZOFFSETFROM:-0500
TZOFFSETTO:-0400
TZNAME:EDT
DTSTART:20270314T070000
END:DAYLIGHT
BEGIN:STANDARD
TZOFFSETFROM:-0400
TZOFFSETTO:-0500
TZNAME:EST
DTSTART:20271107T060000
END:STANDARD
END:VTIMEZONE
BEGIN:VEVENT
DTSTART;TZID=America/Toronto:20260425T090000
DTEND;TZID=America/Toronto:20260425T120000
DTSTAMP:20260422T151253
CREATED:20260422T172948Z
LAST-MODIFIED:20260422T173039Z
UID:482582-1777107600-1777118400@www.chga.fm
SUMMARY:Arbitres recherché - Soccer Vallée-de-la-Gatineau
DESCRIPTION:Soccer Vallée-de-la-Gatineau est à la recherche d’arbitres! \nUne séance de formation est prévue le samedi 25 avril à compter de 9 h. Que tu aies de l’expérience ou que tu souhaites débuter\, nous voulons te rencontrer! \nÉcris-nous en message privé à Soccer Vallée-de-la-Gatineau sur Facebook ou par courriel à information@soccervg.com pour plus d’informations ou pour confirmer ta présence.
URL:https://www.chga.fm/evenement/arbitres-recherche-soccer-vallee-de-la-gatineau/
END:VEVENT
END:VCALENDAR