BEGIN:VCALENDAR
VERSION:2.0
PRODID:-//CHGA - ECPv6.15.20//NONSGML v1.0//EN
CALSCALE:GREGORIAN
METHOD:PUBLISH
X-WR-CALNAME:CHGA
X-ORIGINAL-URL:https://www.chga.fm
X-WR-CALDESC:évènements pour CHGA
REFRESH-INTERVAL;VALUE=DURATION:PT1H
X-Robots-Tag:noindex
X-PUBLISHED-TTL:PT1H
BEGIN:VTIMEZONE
TZID:America/Toronto
BEGIN:DAYLIGHT
TZOFFSETFROM:-0500
TZOFFSETTO:-0400
TZNAME:EDT
DTSTART:20220313T070000
END:DAYLIGHT
BEGIN:STANDARD
TZOFFSETFROM:-0400
TZOFFSETTO:-0500
TZNAME:EST
DTSTART:20221106T060000
END:STANDARD
BEGIN:DAYLIGHT
TZOFFSETFROM:-0500
TZOFFSETTO:-0400
TZNAME:EDT
DTSTART:20230312T070000
END:DAYLIGHT
BEGIN:STANDARD
TZOFFSETFROM:-0400
TZOFFSETTO:-0500
TZNAME:EST
DTSTART:20231105T060000
END:STANDARD
BEGIN:DAYLIGHT
TZOFFSETFROM:-0500
TZOFFSETTO:-0400
TZNAME:EDT
DTSTART:20240310T070000
END:DAYLIGHT
BEGIN:STANDARD
TZOFFSETFROM:-0400
TZOFFSETTO:-0500
TZNAME:EST
DTSTART:20241103T060000
END:STANDARD
END:VTIMEZONE
BEGIN:VEVENT
DTSTART;TZID=America/Toronto:20230613T183000
DTEND;TZID=America/Toronto:20230613T193000
DTSTAMP:20260420T101435
CREATED:20230613T122609Z
LAST-MODIFIED:20230613T122609Z
UID:425434-1686681000-1686684600@www.chga.fm
SUMMARY:AGA - Les Chevaliers de Colomb Conseil 2410 Mont-Laurier
DESCRIPTION:Les Chevaliers de Colomb Conseil 2410 Mont-Laurier\, invite les membres du conseil à la rencontre mensuelle sur la Cérémonie d’accueil le mardi 13 juin 2023 à 19 h 30 à la salle Cana (sous-sol de la cathédrale). De plus\, arrivée à compter de 18 h 30 pour l’inscription. 
URL:https://www.chga.fm/evenement/aga-les-chevaliers-de-colomb-conseil-2410-mont-laurier/
LOCATION:QC\, Canada
END:VEVENT
END:VCALENDAR