BEGIN:VCALENDAR
VERSION:2.0
PRODID:-//CHGA - ECPv6.15.20//NONSGML v1.0//EN
CALSCALE:GREGORIAN
METHOD:PUBLISH
X-WR-CALNAME:CHGA
X-ORIGINAL-URL:https://www.chga.fm
X-WR-CALDESC:évènements pour CHGA
REFRESH-INTERVAL;VALUE=DURATION:PT1H
X-Robots-Tag:noindex
X-PUBLISHED-TTL:PT1H
BEGIN:VTIMEZONE
TZID:America/Toronto
BEGIN:DAYLIGHT
TZOFFSETFROM:-0500
TZOFFSETTO:-0400
TZNAME:EDT
DTSTART:20220313T070000
END:DAYLIGHT
BEGIN:STANDARD
TZOFFSETFROM:-0400
TZOFFSETTO:-0500
TZNAME:EST
DTSTART:20221106T060000
END:STANDARD
BEGIN:DAYLIGHT
TZOFFSETFROM:-0500
TZOFFSETTO:-0400
TZNAME:EDT
DTSTART:20230312T070000
END:DAYLIGHT
BEGIN:STANDARD
TZOFFSETFROM:-0400
TZOFFSETTO:-0500
TZNAME:EST
DTSTART:20231105T060000
END:STANDARD
BEGIN:DAYLIGHT
TZOFFSETFROM:-0500
TZOFFSETTO:-0400
TZNAME:EDT
DTSTART:20240310T070000
END:DAYLIGHT
BEGIN:STANDARD
TZOFFSETFROM:-0400
TZOFFSETTO:-0500
TZNAME:EST
DTSTART:20241103T060000
END:STANDARD
END:VTIMEZONE
BEGIN:VEVENT
DTSTART;TZID=America/Toronto:20230425T190000
DTEND;TZID=America/Toronto:20230425T200000
DTSTAMP:20260420T125936
CREATED:20230418T124305Z
LAST-MODIFIED:20230418T124305Z
UID:421474-1682449200-1682452800@www.chga.fm
SUMMARY:AGA - Le Comité des usagers de la Vallée-de-la-Gatineau
DESCRIPTION:Le Comité des usagers de la Vallée-de-la-Gatineau invite la population à l’assemblée générale annuel qui aura lieu le mardi 25 avril 2023 dès 19 h à la salle Robert Coulombe au Château Logue. Pour vous inscrire à l’AGA\, veuillez les contacter au courriel suivant : pauline.nadon.cucr@ssss.goiuv.qc.ca ou par téléphone 819 449-4690\, poste 449760. \nDe plus\, un léger goûter sera servi. 
URL:https://www.chga.fm/evenement/aga-le-comite-des-usagers-de-la-vallee-de-la-gatineau/
LOCATION:QC\, Canada
END:VEVENT
END:VCALENDAR