BEGIN:VCALENDAR
VERSION:2.0
PRODID:-//CHGA - ECPv6.15.20//NONSGML v1.0//EN
CALSCALE:GREGORIAN
METHOD:PUBLISH
X-WR-CALNAME:CHGA
X-ORIGINAL-URL:https://www.chga.fm
X-WR-CALDESC:évènements pour CHGA
REFRESH-INTERVAL;VALUE=DURATION:PT1H
X-Robots-Tag:noindex
X-PUBLISHED-TTL:PT1H
BEGIN:VTIMEZONE
TZID:America/Toronto
BEGIN:DAYLIGHT
TZOFFSETFROM:-0500
TZOFFSETTO:-0400
TZNAME:EDT
DTSTART:20190310T070000
END:DAYLIGHT
BEGIN:STANDARD
TZOFFSETFROM:-0400
TZOFFSETTO:-0500
TZNAME:EST
DTSTART:20191103T060000
END:STANDARD
BEGIN:DAYLIGHT
TZOFFSETFROM:-0500
TZOFFSETTO:-0400
TZNAME:EDT
DTSTART:20200308T070000
END:DAYLIGHT
BEGIN:STANDARD
TZOFFSETFROM:-0400
TZOFFSETTO:-0500
TZNAME:EST
DTSTART:20201101T060000
END:STANDARD
BEGIN:DAYLIGHT
TZOFFSETFROM:-0500
TZOFFSETTO:-0400
TZNAME:EDT
DTSTART:20210314T070000
END:DAYLIGHT
BEGIN:STANDARD
TZOFFSETFROM:-0400
TZOFFSETTO:-0500
TZNAME:EST
DTSTART:20211107T060000
END:STANDARD
END:VTIMEZONE
BEGIN:VEVENT
DTSTART;TZID=America/Toronto:20200925T130000
DTEND;TZID=America/Toronto:20200925T140000
DTSTAMP:20260422T125709
CREATED:20200824T153333Z
LAST-MODIFIED:20200824T153333Z
UID:351503-1601038800-1601042400@www.chga.fm
SUMMARY:AGA du CALACS Vallée-de-la-Gatineau
DESCRIPTION:Vous êtes cordialement invitées à l’assemblée générale annuelle 2020 du CALACS Vallée-de-la-Gatineau qui se tiendra le 25 septembre prochain\, dès 13 h au 248 rue Cartier\, Maniwaki\, salle 2. \nÀ noter que cette assemblée pourrait être convertie en rencontre « ZOOM »\, avec préavis\, s’il y a lieu. \nDifférents points seront abordés. \nConfirmation de présence : maude@calacsvg.com – 819-441-2111
URL:https://www.chga.fm/evenement/aga-du-calacs-vallee-de-la-gatineau/
LOCATION:248\, rue Cartier\, Maniwaki\, 248 rue Cartier\, Maniwaki\, QC\, J9E3P5\, Canada
END:VEVENT
END:VCALENDAR