BEGIN:VCALENDAR
VERSION:2.0
PRODID:-//CHGA - ECPv6.15.20//NONSGML v1.0//EN
CALSCALE:GREGORIAN
METHOD:PUBLISH
X-WR-CALNAME:CHGA
X-ORIGINAL-URL:https://www.chga.fm
X-WR-CALDESC:évènements pour CHGA
REFRESH-INTERVAL;VALUE=DURATION:PT1H
X-Robots-Tag:noindex
X-PUBLISHED-TTL:PT1H
BEGIN:VTIMEZONE
TZID:America/Toronto
BEGIN:DAYLIGHT
TZOFFSETFROM:-0500
TZOFFSETTO:-0400
TZNAME:EDT
DTSTART:20220313T070000
END:DAYLIGHT
BEGIN:STANDARD
TZOFFSETFROM:-0400
TZOFFSETTO:-0500
TZNAME:EST
DTSTART:20221106T060000
END:STANDARD
BEGIN:DAYLIGHT
TZOFFSETFROM:-0500
TZOFFSETTO:-0400
TZNAME:EDT
DTSTART:20230312T070000
END:DAYLIGHT
BEGIN:STANDARD
TZOFFSETFROM:-0400
TZOFFSETTO:-0500
TZNAME:EST
DTSTART:20231105T060000
END:STANDARD
BEGIN:DAYLIGHT
TZOFFSETFROM:-0500
TZOFFSETTO:-0400
TZNAME:EDT
DTSTART:20240310T070000
END:DAYLIGHT
BEGIN:STANDARD
TZOFFSETFROM:-0400
TZOFFSETTO:-0500
TZNAME:EST
DTSTART:20241103T060000
END:STANDARD
END:VTIMEZONE
BEGIN:VEVENT
DTSTART;TZID=America/Toronto:20230620T180000
DTEND;TZID=America/Toronto:20230620T190000
DTSTAMP:20260420T100903
CREATED:20230530T191407Z
LAST-MODIFIED:20230530T192902Z
UID:424638-1687284000-1687287600@www.chga.fm
SUMMARY:AGA annuelle - Mani-Jeunes Inc.
DESCRIPTION:Mani-Jeunes inc. invite tous les membres de Mani-Jeunes Inc. à leur assemblée générale annuelle qui aura lieu le mardi 20 juin 2023 dès 18 h dans les locaux de l’organisme. \nLes personnes désirant poser leur candidature à un poste en élection doivent demander un bulletin de candidature au directeur général Monsieur Mario Danis à l’adresse direction@mani-jeunes.ca et transmettre à cette même adresse\, ou à l’adresse postale de Mani-Jeunes (86 rue Roy\, C.P. 513\, Maniwaki\, Québec\, J9E 3G9) le bulletin dûment rempli et ce au plus tard le 10 juin à 16h\, conformément aux règlements généraux de Mani-Jeunes Inc. \nVeuillez noter que l’accès à l’assemblée est limité et que seules les personnes qui sont membres en règle de Mani-Jeunes pourront assister à celle-ci.
URL:https://www.chga.fm/evenement/aga-annuelle-mani-jeunes-inc/
LOCATION:QC\, Canada
END:VEVENT
END:VCALENDAR