BEGIN:VCALENDAR
VERSION:2.0
PRODID:-//CHGA - ECPv6.15.20//NONSGML v1.0//EN
CALSCALE:GREGORIAN
METHOD:PUBLISH
X-WR-CALNAME:CHGA
X-ORIGINAL-URL:https://www.chga.fm
X-WR-CALDESC:évènements pour CHGA
REFRESH-INTERVAL;VALUE=DURATION:PT1H
X-Robots-Tag:noindex
X-PUBLISHED-TTL:PT1H
BEGIN:VTIMEZONE
TZID:America/Toronto
BEGIN:DAYLIGHT
TZOFFSETFROM:-0500
TZOFFSETTO:-0400
TZNAME:EDT
DTSTART:20230312T070000
END:DAYLIGHT
BEGIN:STANDARD
TZOFFSETFROM:-0400
TZOFFSETTO:-0500
TZNAME:EST
DTSTART:20231105T060000
END:STANDARD
BEGIN:DAYLIGHT
TZOFFSETFROM:-0500
TZOFFSETTO:-0400
TZNAME:EDT
DTSTART:20240310T070000
END:DAYLIGHT
BEGIN:STANDARD
TZOFFSETFROM:-0400
TZOFFSETTO:-0500
TZNAME:EST
DTSTART:20241103T060000
END:STANDARD
BEGIN:DAYLIGHT
TZOFFSETFROM:-0500
TZOFFSETTO:-0400
TZNAME:EDT
DTSTART:20250309T070000
END:DAYLIGHT
BEGIN:STANDARD
TZOFFSETFROM:-0400
TZOFFSETTO:-0500
TZNAME:EST
DTSTART:20251102T060000
END:STANDARD
END:VTIMEZONE
BEGIN:VEVENT
DTSTART;TZID=America/Toronto:20240311T153000
DTEND;TZID=America/Toronto:20240311T163000
DTSTAMP:20260420T113334
CREATED:20240312T123527Z
LAST-MODIFIED:20240312T123527Z
UID:10020148-1710171000-1710174600@www.chga.fm
SUMMARY:Activité de la semaine - Les Joyeux Copains
DESCRIPTION:Voici les activités de la semaine avec les Joyeux Copains de Montcerf-Lytton \n– lundi de 15 h 30 à 16 h 30\, yoga \n– mercredi de 18 h à 20 h\, dîner à la cabane à sucre La Coulé \n– jeudi de 14 h à 16 h\, café causerie\, de 19 h à 21 h\, soirée de cartes et sacs de sable.
URL:https://www.chga.fm/evenement/activite-de-la-semaine-les-joyeux-copains/2024-03-11/
LOCATION:QC\, Canada
END:VEVENT
END:VCALENDAR