BEGIN:VCALENDAR
VERSION:2.0
PRODID:-//CHGA - ECPv6.15.20//NONSGML v1.0//EN
CALSCALE:GREGORIAN
METHOD:PUBLISH
X-WR-CALNAME:CHGA
X-ORIGINAL-URL:https://www.chga.fm
X-WR-CALDESC:évènements pour CHGA
REFRESH-INTERVAL;VALUE=DURATION:PT1H
X-Robots-Tag:noindex
X-PUBLISHED-TTL:PT1H
BEGIN:VTIMEZONE
TZID:America/Toronto
BEGIN:DAYLIGHT
TZOFFSETFROM:-0500
TZOFFSETTO:-0400
TZNAME:EDT
DTSTART:20220313T070000
END:DAYLIGHT
BEGIN:STANDARD
TZOFFSETFROM:-0400
TZOFFSETTO:-0500
TZNAME:EST
DTSTART:20221106T060000
END:STANDARD
BEGIN:DAYLIGHT
TZOFFSETFROM:-0500
TZOFFSETTO:-0400
TZNAME:EDT
DTSTART:20230312T070000
END:DAYLIGHT
BEGIN:STANDARD
TZOFFSETFROM:-0400
TZOFFSETTO:-0500
TZNAME:EST
DTSTART:20231105T060000
END:STANDARD
BEGIN:DAYLIGHT
TZOFFSETFROM:-0500
TZOFFSETTO:-0400
TZNAME:EDT
DTSTART:20240310T070000
END:DAYLIGHT
BEGIN:STANDARD
TZOFFSETFROM:-0400
TZOFFSETTO:-0500
TZNAME:EST
DTSTART:20241103T060000
END:STANDARD
END:VTIMEZONE
BEGIN:VEVENT
DTSTART;TZID=America/Toronto:20230525T170000
DTEND;TZID=America/Toronto:20230525T190000
DTSTAMP:20260420T113537
CREATED:20230525T124447Z
LAST-MODIFIED:20230525T124447Z
UID:419855-1685034000-1685041200@www.chga.fm
SUMMARY:5 à 7 - La fondation du Centre de Santé VG
DESCRIPTION:La Fondation du Centre de santé Vallée-de-la-Gatineau vous invite à un 5 à 7\,  \nà la salle Robert Coulombe au Château Logue\, pour l’annonce officielle du tournoi de golf annuel aux profits de la Fondation. \nVenez rencontrer M Mike McConnery\, président de la CCMVG et président d’honneur du tournoi 2023 \nBienvenue à tous !!!  \nPauline Patry\, présidente de la Fondation et le comité.
URL:https://www.chga.fm/evenement/5-a-7-la-fondation-du-centre-de-sante-vg/
LOCATION:Château Logue Maniwaki\, 12 Rue Comeau\, Maniwaki\, QC\, J9E 2R8\, Canada
END:VEVENT
END:VCALENDAR