BEGIN:VCALENDAR
VERSION:2.0
PRODID:-//CHGA - ECPv6.15.20//NONSGML v1.0//EN
CALSCALE:GREGORIAN
METHOD:PUBLISH
X-WR-CALNAME:CHGA
X-ORIGINAL-URL:https://www.chga.fm
X-WR-CALDESC:évènements pour CHGA
REFRESH-INTERVAL;VALUE=DURATION:PT1H
X-Robots-Tag:noindex
X-PUBLISHED-TTL:PT1H
BEGIN:VTIMEZONE
TZID:America/Toronto
BEGIN:DAYLIGHT
TZOFFSETFROM:-0500
TZOFFSETTO:-0400
TZNAME:EDT
DTSTART:20210314T070000
END:DAYLIGHT
BEGIN:STANDARD
TZOFFSETFROM:-0400
TZOFFSETTO:-0500
TZNAME:EST
DTSTART:20211107T060000
END:STANDARD
BEGIN:DAYLIGHT
TZOFFSETFROM:-0500
TZOFFSETTO:-0400
TZNAME:EDT
DTSTART:20220313T070000
END:DAYLIGHT
BEGIN:STANDARD
TZOFFSETFROM:-0400
TZOFFSETTO:-0500
TZNAME:EST
DTSTART:20221106T060000
END:STANDARD
BEGIN:DAYLIGHT
TZOFFSETFROM:-0500
TZOFFSETTO:-0400
TZNAME:EDT
DTSTART:20230312T070000
END:DAYLIGHT
BEGIN:STANDARD
TZOFFSETFROM:-0400
TZOFFSETTO:-0500
TZNAME:EST
DTSTART:20231105T060000
END:STANDARD
END:VTIMEZONE
BEGIN:VEVENT
DTSTART;TZID=America/Toronto:20220602T170000
DTEND;TZID=America/Toronto:20220602T190000
DTSTAMP:20260421T032634
CREATED:20220531T182654Z
LAST-MODIFIED:20220531T182654Z
UID:10015681-1654189200-1654196400@www.chga.fm
SUMMARY:5 à 7 avec les HAWKS
DESCRIPTION:Le Club de moto les Hawks vous invite le jeudi 2 juin pour un 5 à 7 au Resto-Pub Le Rabaska à Maniwaki. \nUne soirée pour socialiser et rencontrer les membres et voir leurs motos. \nVous pourrez également acheter vos billets pour les tirages des prix au profit de Suicide Détour qui auront lieu le 11 juin prochain. \nDe beaux prix dont 2 motos Harley-Davidson\, un crédit voyage de 2 000 $ et un forfait à la Pourvoirie la Pointe à David à gagner. \nLes membres du Club de moto les Hawks vous attendent en grand nombre et on hâte de vous rencontrer.
URL:https://www.chga.fm/evenement/5-a-7-avec-les-hawks/2022-06-02/
LOCATION:QC\, Canada
END:VEVENT
END:VCALENDAR